BEGIN:VCALENDAR
VERSION:2.0
PRODID:-//Ultimate Physique Fitness - ECPv6.15.12.2//NONSGML v1.0//EN
CALSCALE:GREGORIAN
METHOD:PUBLISH
X-ORIGINAL-URL:http://www.ultimatephysiquefitness.com
X-WR-CALDESC:Events for Ultimate Physique Fitness
REFRESH-INTERVAL;VALUE=DURATION:PT1H
X-Robots-Tag:noindex
X-PUBLISHED-TTL:PT1H
BEGIN:VTIMEZONE
TZID:America/New_York
BEGIN:DAYLIGHT
TZOFFSETFROM:-0500
TZOFFSETTO:-0400
TZNAME:EDT
DTSTART:20260308T070000
END:DAYLIGHT
BEGIN:STANDARD
TZOFFSETFROM:-0400
TZOFFSETTO:-0500
TZNAME:EST
DTSTART:20261101T060000
END:STANDARD
BEGIN:DAYLIGHT
TZOFFSETFROM:-0500
TZOFFSETTO:-0400
TZNAME:EDT
DTSTART:20270314T070000
END:DAYLIGHT
BEGIN:STANDARD
TZOFFSETFROM:-0400
TZOFFSETTO:-0500
TZNAME:EST
DTSTART:20271107T060000
END:STANDARD
BEGIN:DAYLIGHT
TZOFFSETFROM:-0500
TZOFFSETTO:-0400
TZNAME:EDT
DTSTART:20280312T070000
END:DAYLIGHT
BEGIN:STANDARD
TZOFFSETFROM:-0400
TZOFFSETTO:-0500
TZNAME:EST
DTSTART:20281105T060000
END:STANDARD
END:VTIMEZONE
BEGIN:VEVENT
DTSTART;TZID=America/New_York:20270201T083000
DTEND;TZID=America/New_York:20270201T110000
DTSTAMP:20260420T080832
CREATED:20251123T171631Z
LAST-MODIFIED:20251123T171631Z
UID:10004173-1801470600-1801479600@www.ultimatephysiquefitness.com
SUMMARY:Pickleball
DESCRIPTION:Members $3.00 \nNon Members $5.00
URL:http://www.ultimatephysiquefitness.com/class/pickleball/2027-02-01/
END:VEVENT
BEGIN:VEVENT
DTSTART;TZID=America/New_York:20270201T094500
DTEND;TZID=America/New_York:20270201T104500
DTSTAMP:20260420T080832
CREATED:20251123T171824Z
LAST-MODIFIED:20251123T171824Z
UID:10004239-1801475100-1801478700@www.ultimatephysiquefitness.com
SUMMARY:Circuit with Stations
DESCRIPTION:Karen
URL:http://www.ultimatephysiquefitness.com/class/circuit-with-stations/2027-02-01/
END:VEVENT
BEGIN:VEVENT
DTSTART;TZID=America/New_York:20270201T170000
DTEND;TZID=America/New_York:20270201T173000
DTSTAMP:20260420T080832
CREATED:20251123T171919Z
LAST-MODIFIED:20260215T170631Z
UID:10004304-1801501200-1801503000@www.ultimatephysiquefitness.com
SUMMARY:Cycling
DESCRIPTION:Karen or Jen
URL:http://www.ultimatephysiquefitness.com/class/cycling/2027-02-01/
END:VEVENT
BEGIN:VEVENT
DTSTART;TZID=America/New_York:20270201T173000
DTEND;TZID=America/New_York:20270201T180000
DTSTAMP:20260420T080832
CREATED:20251123T172031Z
LAST-MODIFIED:20260215T180229Z
UID:10004369-1801503000-1801504800@www.ultimatephysiquefitness.com
SUMMARY:Circuit
DESCRIPTION:Karen or Jen
URL:http://www.ultimatephysiquefitness.com/class/circuit/2027-02-01/
END:VEVENT
BEGIN:VEVENT
DTSTART;TZID=America/New_York:20270201T180000
DTEND;TZID=America/New_York:20270201T184500
DTSTAMP:20260420T080832
CREATED:20251123T172554Z
LAST-MODIFIED:20251123T172554Z
UID:10004435-1801504800-1801507500@www.ultimatephysiquefitness.com
SUMMARY:Cycling
DESCRIPTION:Ian
URL:http://www.ultimatephysiquefitness.com/class/cycling-2/2027-02-01/
END:VEVENT
BEGIN:VEVENT
DTSTART;TZID=America/New_York:20270201T183000
DTEND;TZID=America/New_York:20270201T200000
DTSTAMP:20260420T080832
CREATED:20251123T172701Z
LAST-MODIFIED:20260212T120259Z
UID:10004501-1801506600-1801512000@www.ultimatephysiquefitness.com
SUMMARY:*Hatha Yoga
DESCRIPTION:Karen \nMembers $8.00 \nNon-Members $12.00
URL:http://www.ultimatephysiquefitness.com/class/hatha-yoga/2027-02-01/
CATEGORIES:Yoga
END:VEVENT
BEGIN:VEVENT
DTSTART;TZID=America/New_York:20270202T100000
DTEND;TZID=America/New_York:20270202T110000
DTSTAMP:20260420T080832
CREATED:20251123T172938Z
LAST-MODIFIED:20260317T140601Z
UID:10004566-1801562400-1801566000@www.ultimatephysiquefitness.com
SUMMARY:Low Impact Fitness
DESCRIPTION:Marianne
URL:http://www.ultimatephysiquefitness.com/class/low-impact-fitness/2027-02-02/
END:VEVENT
BEGIN:VEVENT
DTSTART;TZID=America/New_York:20270202T173000
DTEND;TZID=America/New_York:20270202T183000
DTSTAMP:20260420T080832
CREATED:20251123T173116Z
LAST-MODIFIED:20260327T124012Z
UID:10004630-1801589400-1801593000@www.ultimatephysiquefitness.com
SUMMARY:*Power Vinyasa Yoga
DESCRIPTION:Belinda \nMembers $8.00 \nNon Members $12.00
URL:http://www.ultimatephysiquefitness.com/class/power-vinyasa-yoga/2027-02-02/
CATEGORIES:Yoga
END:VEVENT
BEGIN:VEVENT
DTSTART;TZID=America/New_York:20270202T180000
DTEND;TZID=America/New_York:20270202T190000
DTSTAMP:20260420T080832
CREATED:20251123T173205Z
LAST-MODIFIED:20251123T173205Z
UID:10004695-1801591200-1801594800@www.ultimatephysiquefitness.com
SUMMARY:Bootcamp
DESCRIPTION:
URL:http://www.ultimatephysiquefitness.com/class/bootcamp/2027-02-02/
END:VEVENT
BEGIN:VEVENT
DTSTART;TZID=America/New_York:20270203T083000
DTEND;TZID=America/New_York:20270203T110000
DTSTAMP:20260420T080832
CREATED:20251123T173410Z
LAST-MODIFIED:20251123T173410Z
UID:10004761-1801643400-1801652400@www.ultimatephysiquefitness.com
SUMMARY:Pickleball
DESCRIPTION:Members $3.00 \nNon Members $5.00
URL:http://www.ultimatephysiquefitness.com/class/pickleball-2/2027-02-03/
END:VEVENT
BEGIN:VEVENT
DTSTART;TZID=America/New_York:20270203T094500
DTEND;TZID=America/New_York:20270203T104500
DTSTAMP:20260420T080832
CREATED:20251123T173544Z
LAST-MODIFIED:20251222T162746Z
UID:10004824-1801647900-1801651500@www.ultimatephysiquefitness.com
SUMMARY:Cardio & Strength
DESCRIPTION:Karen
URL:http://www.ultimatephysiquefitness.com/class/cardio-strength/2027-02-03/
END:VEVENT
BEGIN:VEVENT
DTSTART;TZID=America/New_York:20270203T170000
DTEND;TZID=America/New_York:20270203T173000
DTSTAMP:20260420T080832
CREATED:20260329T133020Z
LAST-MODIFIED:20260329T133021Z
UID:10005729-1801674000-1801675800@www.ultimatephysiquefitness.com
SUMMARY:Cycling
DESCRIPTION:Julie
URL:http://www.ultimatephysiquefitness.com/class/cycling-3-2/2027-02-03/
END:VEVENT
BEGIN:VEVENT
DTSTART;TZID=America/New_York:20270203T173000
DTEND;TZID=America/New_York:20270203T180000
DTSTAMP:20260420T080832
CREATED:20260329T135356Z
LAST-MODIFIED:20260329T141503Z
UID:10005774-1801675800-1801677600@www.ultimatephysiquefitness.com
SUMMARY:Circuit
DESCRIPTION:Julie
URL:http://www.ultimatephysiquefitness.com/class/circuit-2-2/2027-02-03/
END:VEVENT
BEGIN:VEVENT
DTSTART;TZID=America/New_York:20270203T180000
DTEND;TZID=America/New_York:20270203T190000
DTSTAMP:20260420T080832
CREATED:20251123T174004Z
LAST-MODIFIED:20260317T170538Z
UID:10005011-1801677600-1801681200@www.ultimatephysiquefitness.com
SUMMARY:*Gentle/Beginner Yoga
DESCRIPTION:Gail \nMembers $8.00 \nNon Members $12.00
URL:http://www.ultimatephysiquefitness.com/class/gentle-beginner-yoga/2027-02-03/
CATEGORIES:Yoga
END:VEVENT
BEGIN:VEVENT
DTSTART;TZID=America/New_York:20270204T093000
DTEND;TZID=America/New_York:20270204T110000
DTSTAMP:20260420T080832
CREATED:20251123T174119Z
LAST-MODIFIED:20260115T132102Z
UID:10005074-1801733400-1801738800@www.ultimatephysiquefitness.com
SUMMARY:*Hatha Yoga
DESCRIPTION:Karen \nMembers $8.00 \nNon Members $12.00
URL:http://www.ultimatephysiquefitness.com/class/hatha-yoga-2/2027-02-04/
CATEGORIES:Yoga
END:VEVENT
BEGIN:VEVENT
DTSTART;TZID=America/New_York:20270205T083000
DTEND;TZID=America/New_York:20270205T110000
DTSTAMP:20260420T080832
CREATED:20251123T174834Z
LAST-MODIFIED:20251123T174834Z
UID:10005336-1801816200-1801825200@www.ultimatephysiquefitness.com
SUMMARY:Pickleball
DESCRIPTION:No charge on Friday’s for Members \nNon Members $5.00
URL:http://www.ultimatephysiquefitness.com/class/pickleball-3/2027-02-05/
END:VEVENT
BEGIN:VEVENT
DTSTART;TZID=America/New_York:20270206T081500
DTEND;TZID=America/New_York:20270206T090000
DTSTAMP:20260420T080832
CREATED:20251123T174920Z
LAST-MODIFIED:20251123T174920Z
UID:10005401-1801901700-1801904400@www.ultimatephysiquefitness.com
SUMMARY:Cycling
DESCRIPTION:
URL:http://www.ultimatephysiquefitness.com/class/cycling-4/2027-02-06/
END:VEVENT
BEGIN:VEVENT
DTSTART;TZID=America/New_York:20270206T090000
DTEND;TZID=America/New_York:20270206T100000
DTSTAMP:20260420T080832
CREATED:20251123T174526Z
LAST-MODIFIED:20251123T174526Z
UID:10005267-1801904400-1801908000@www.ultimatephysiquefitness.com
SUMMARY:Saturday Surprise
DESCRIPTION:
URL:http://www.ultimatephysiquefitness.com/class/saturday-surprise/2027-02-06/
END:VEVENT
BEGIN:VEVENT
DTSTART;TZID=America/New_York:20270206T090000
DTEND;TZID=America/New_York:20270206T103000
DTSTAMP:20260420T080832
CREATED:20251123T174444Z
LAST-MODIFIED:20260414T165355Z
UID:10005658-1801904400-1801909800@www.ultimatephysiquefitness.com
SUMMARY:*Slow Flow Yoga
DESCRIPTION:Karen \n$8.00 members \n$12.00 Non members
URL:http://www.ultimatephysiquefitness.com/class/slow-flow-yoga/2027-02-06/
CATEGORIES:Yoga
END:VEVENT
BEGIN:VEVENT
DTSTART;TZID=America/New_York:20270207T083000
DTEND;TZID=America/New_York:20270207T093000
DTSTAMP:20260420T080832
CREATED:20251123T174307Z
LAST-MODIFIED:20260317T170226Z
UID:10005138-1801989000-1801992600@www.ultimatephysiquefitness.com
SUMMARY:*45 min. Vinyasa 15 min. Yin Yoga
DESCRIPTION:Belinda \n$8.00 Members \n$12.00 Non Members \n 
URL:http://www.ultimatephysiquefitness.com/class/45-min-vinyasa-15-min-yin-yoga/2027-02-07/
CATEGORIES:Yoga
END:VEVENT
BEGIN:VEVENT
DTSTART;TZID=America/New_York:20270207T090000
DTEND;TZID=America/New_York:20270207T100000
DTSTAMP:20260420T080832
CREATED:20251125T232250Z
LAST-MODIFIED:20260327T124200Z
UID:10005593-1801990800-1801994400@www.ultimatephysiquefitness.com
SUMMARY:Bootcamp
DESCRIPTION:Julie or Kelli
URL:http://www.ultimatephysiquefitness.com/class/bootcamp-2/2027-02-07/
END:VEVENT
BEGIN:VEVENT
DTSTART;TZID=America/New_York:20270208T083000
DTEND;TZID=America/New_York:20270208T110000
DTSTAMP:20260420T080832
CREATED:20251123T171631Z
LAST-MODIFIED:20251123T171631Z
UID:10004174-1802075400-1802084400@www.ultimatephysiquefitness.com
SUMMARY:Pickleball
DESCRIPTION:Members $3.00 \nNon Members $5.00
URL:http://www.ultimatephysiquefitness.com/class/pickleball/2027-02-08/
END:VEVENT
BEGIN:VEVENT
DTSTART;TZID=America/New_York:20270208T094500
DTEND;TZID=America/New_York:20270208T104500
DTSTAMP:20260420T080832
CREATED:20251123T171824Z
LAST-MODIFIED:20251123T171824Z
UID:10004240-1802079900-1802083500@www.ultimatephysiquefitness.com
SUMMARY:Circuit with Stations
DESCRIPTION:Karen
URL:http://www.ultimatephysiquefitness.com/class/circuit-with-stations/2027-02-08/
END:VEVENT
BEGIN:VEVENT
DTSTART;TZID=America/New_York:20270208T170000
DTEND;TZID=America/New_York:20270208T173000
DTSTAMP:20260420T080832
CREATED:20251123T171919Z
LAST-MODIFIED:20260215T170631Z
UID:10004305-1802106000-1802107800@www.ultimatephysiquefitness.com
SUMMARY:Cycling
DESCRIPTION:Karen or Jen
URL:http://www.ultimatephysiquefitness.com/class/cycling/2027-02-08/
END:VEVENT
BEGIN:VEVENT
DTSTART;TZID=America/New_York:20270208T173000
DTEND;TZID=America/New_York:20270208T180000
DTSTAMP:20260420T080832
CREATED:20251123T172031Z
LAST-MODIFIED:20260215T180229Z
UID:10004370-1802107800-1802109600@www.ultimatephysiquefitness.com
SUMMARY:Circuit
DESCRIPTION:Karen or Jen
URL:http://www.ultimatephysiquefitness.com/class/circuit/2027-02-08/
END:VEVENT
BEGIN:VEVENT
DTSTART;TZID=America/New_York:20270208T180000
DTEND;TZID=America/New_York:20270208T184500
DTSTAMP:20260420T080832
CREATED:20251123T172554Z
LAST-MODIFIED:20251123T172554Z
UID:10004436-1802109600-1802112300@www.ultimatephysiquefitness.com
SUMMARY:Cycling
DESCRIPTION:Ian
URL:http://www.ultimatephysiquefitness.com/class/cycling-2/2027-02-08/
END:VEVENT
BEGIN:VEVENT
DTSTART;TZID=America/New_York:20270208T183000
DTEND;TZID=America/New_York:20270208T200000
DTSTAMP:20260420T080832
CREATED:20251123T172701Z
LAST-MODIFIED:20260212T120259Z
UID:10004502-1802111400-1802116800@www.ultimatephysiquefitness.com
SUMMARY:*Hatha Yoga
DESCRIPTION:Karen \nMembers $8.00 \nNon-Members $12.00
URL:http://www.ultimatephysiquefitness.com/class/hatha-yoga/2027-02-08/
CATEGORIES:Yoga
END:VEVENT
BEGIN:VEVENT
DTSTART;TZID=America/New_York:20270209T100000
DTEND;TZID=America/New_York:20270209T110000
DTSTAMP:20260420T080832
CREATED:20251123T172938Z
LAST-MODIFIED:20260317T140601Z
UID:10004567-1802167200-1802170800@www.ultimatephysiquefitness.com
SUMMARY:Low Impact Fitness
DESCRIPTION:Marianne
URL:http://www.ultimatephysiquefitness.com/class/low-impact-fitness/2027-02-09/
END:VEVENT
BEGIN:VEVENT
DTSTART;TZID=America/New_York:20270209T173000
DTEND;TZID=America/New_York:20270209T183000
DTSTAMP:20260420T080832
CREATED:20251123T173116Z
LAST-MODIFIED:20260327T124012Z
UID:10004631-1802194200-1802197800@www.ultimatephysiquefitness.com
SUMMARY:*Power Vinyasa Yoga
DESCRIPTION:Belinda \nMembers $8.00 \nNon Members $12.00
URL:http://www.ultimatephysiquefitness.com/class/power-vinyasa-yoga/2027-02-09/
CATEGORIES:Yoga
END:VEVENT
BEGIN:VEVENT
DTSTART;TZID=America/New_York:20270209T180000
DTEND;TZID=America/New_York:20270209T190000
DTSTAMP:20260420T080832
CREATED:20251123T173205Z
LAST-MODIFIED:20251123T173205Z
UID:10004696-1802196000-1802199600@www.ultimatephysiquefitness.com
SUMMARY:Bootcamp
DESCRIPTION:
URL:http://www.ultimatephysiquefitness.com/class/bootcamp/2027-02-09/
END:VEVENT
END:VCALENDAR