BEGIN:VCALENDAR
VERSION:2.0
PRODID:-//Ultimate Physique Fitness - ECPv6.15.12.2//NONSGML v1.0//EN
CALSCALE:GREGORIAN
METHOD:PUBLISH
X-WR-CALNAME:Ultimate Physique Fitness
X-ORIGINAL-URL:http://www.ultimatephysiquefitness.com
X-WR-CALDESC:Events for Ultimate Physique Fitness
REFRESH-INTERVAL;VALUE=DURATION:PT1H
X-Robots-Tag:noindex
X-PUBLISHED-TTL:PT1H
BEGIN:VTIMEZONE
TZID:America/New_York
BEGIN:DAYLIGHT
TZOFFSETFROM:-0500
TZOFFSETTO:-0400
TZNAME:EDT
DTSTART:20250309T070000
END:DAYLIGHT
BEGIN:STANDARD
TZOFFSETFROM:-0400
TZOFFSETTO:-0500
TZNAME:EST
DTSTART:20251102T060000
END:STANDARD
BEGIN:DAYLIGHT
TZOFFSETFROM:-0500
TZOFFSETTO:-0400
TZNAME:EDT
DTSTART:20260308T070000
END:DAYLIGHT
BEGIN:STANDARD
TZOFFSETFROM:-0400
TZOFFSETTO:-0500
TZNAME:EST
DTSTART:20261101T060000
END:STANDARD
BEGIN:DAYLIGHT
TZOFFSETFROM:-0500
TZOFFSETTO:-0400
TZNAME:EDT
DTSTART:20270314T070000
END:DAYLIGHT
BEGIN:STANDARD
TZOFFSETFROM:-0400
TZOFFSETTO:-0500
TZNAME:EST
DTSTART:20271107T060000
END:STANDARD
END:VTIMEZONE
BEGIN:VEVENT
DTSTART;TZID=America/New_York:20261201T100000
DTEND;TZID=America/New_York:20261201T110000
DTSTAMP:20260420T033851
CREATED:20251123T172938Z
LAST-MODIFIED:20260317T140601Z
UID:10004557-1796119200-1796122800@www.ultimatephysiquefitness.com
SUMMARY:Low Impact Fitness
DESCRIPTION:Marianne
URL:http://www.ultimatephysiquefitness.com/class/low-impact-fitness/2026-12-01/
END:VEVENT
BEGIN:VEVENT
DTSTART;TZID=America/New_York:20261201T173000
DTEND;TZID=America/New_York:20261201T183000
DTSTAMP:20260420T033851
CREATED:20251123T173116Z
LAST-MODIFIED:20260327T124012Z
UID:10004621-1796146200-1796149800@www.ultimatephysiquefitness.com
SUMMARY:*Power Vinyasa Yoga
DESCRIPTION:Belinda \nMembers $8.00 \nNon Members $12.00
URL:http://www.ultimatephysiquefitness.com/class/power-vinyasa-yoga/2026-12-01/
CATEGORIES:Yoga
END:VEVENT
BEGIN:VEVENT
DTSTART;TZID=America/New_York:20261201T180000
DTEND;TZID=America/New_York:20261201T190000
DTSTAMP:20260420T033851
CREATED:20251123T173205Z
LAST-MODIFIED:20251123T173205Z
UID:10004686-1796148000-1796151600@www.ultimatephysiquefitness.com
SUMMARY:Bootcamp
DESCRIPTION:
URL:http://www.ultimatephysiquefitness.com/class/bootcamp/2026-12-01/
END:VEVENT
BEGIN:VEVENT
DTSTART;TZID=America/New_York:20261202T083000
DTEND;TZID=America/New_York:20261202T110000
DTSTAMP:20260420T033851
CREATED:20251123T173410Z
LAST-MODIFIED:20251123T173410Z
UID:10004752-1796200200-1796209200@www.ultimatephysiquefitness.com
SUMMARY:Pickleball
DESCRIPTION:Members $3.00 \nNon Members $5.00
URL:http://www.ultimatephysiquefitness.com/class/pickleball-2/2026-12-02/
END:VEVENT
BEGIN:VEVENT
DTSTART;TZID=America/New_York:20261202T094500
DTEND;TZID=America/New_York:20261202T104500
DTSTAMP:20260420T033851
CREATED:20251123T173544Z
LAST-MODIFIED:20251222T162746Z
UID:10004815-1796204700-1796208300@www.ultimatephysiquefitness.com
SUMMARY:Cardio & Strength
DESCRIPTION:Karen
URL:http://www.ultimatephysiquefitness.com/class/cardio-strength/2026-12-02/
END:VEVENT
BEGIN:VEVENT
DTSTART;TZID=America/New_York:20261202T170000
DTEND;TZID=America/New_York:20261202T173000
DTSTAMP:20260420T033851
CREATED:20260329T133020Z
LAST-MODIFIED:20260329T133021Z
UID:10005720-1796230800-1796232600@www.ultimatephysiquefitness.com
SUMMARY:Cycling
DESCRIPTION:Julie
URL:http://www.ultimatephysiquefitness.com/class/cycling-3-2/2026-12-02/
END:VEVENT
BEGIN:VEVENT
DTSTART;TZID=America/New_York:20261202T173000
DTEND;TZID=America/New_York:20261202T180000
DTSTAMP:20260420T033851
CREATED:20260329T135356Z
LAST-MODIFIED:20260329T141503Z
UID:10005765-1796232600-1796234400@www.ultimatephysiquefitness.com
SUMMARY:Circuit
DESCRIPTION:Julie
URL:http://www.ultimatephysiquefitness.com/class/circuit-2-2/2026-12-02/
END:VEVENT
BEGIN:VEVENT
DTSTART;TZID=America/New_York:20261202T180000
DTEND;TZID=America/New_York:20261202T190000
DTSTAMP:20260420T033851
CREATED:20251123T174004Z
LAST-MODIFIED:20260317T170538Z
UID:10005002-1796234400-1796238000@www.ultimatephysiquefitness.com
SUMMARY:*Gentle/Beginner Yoga
DESCRIPTION:Gail \nMembers $8.00 \nNon Members $12.00
URL:http://www.ultimatephysiquefitness.com/class/gentle-beginner-yoga/2026-12-02/
CATEGORIES:Yoga
END:VEVENT
BEGIN:VEVENT
DTSTART;TZID=America/New_York:20261203T093000
DTEND;TZID=America/New_York:20261203T110000
DTSTAMP:20260420T033851
CREATED:20251123T174119Z
LAST-MODIFIED:20260115T132102Z
UID:10005065-1796290200-1796295600@www.ultimatephysiquefitness.com
SUMMARY:*Hatha Yoga
DESCRIPTION:Karen \nMembers $8.00 \nNon Members $12.00
URL:http://www.ultimatephysiquefitness.com/class/hatha-yoga-2/2026-12-03/
CATEGORIES:Yoga
END:VEVENT
BEGIN:VEVENT
DTSTART;TZID=America/New_York:20261204T083000
DTEND;TZID=America/New_York:20261204T110000
DTSTAMP:20260420T033851
CREATED:20251123T174834Z
LAST-MODIFIED:20251123T174834Z
UID:10005327-1796373000-1796382000@www.ultimatephysiquefitness.com
SUMMARY:Pickleball
DESCRIPTION:No charge on Friday’s for Members \nNon Members $5.00
URL:http://www.ultimatephysiquefitness.com/class/pickleball-3/2026-12-04/
END:VEVENT
BEGIN:VEVENT
DTSTART;TZID=America/New_York:20261205T081500
DTEND;TZID=America/New_York:20261205T090000
DTSTAMP:20260420T033851
CREATED:20251123T174920Z
LAST-MODIFIED:20251123T174920Z
UID:10005392-1796458500-1796461200@www.ultimatephysiquefitness.com
SUMMARY:Cycling
DESCRIPTION:
URL:http://www.ultimatephysiquefitness.com/class/cycling-4/2026-12-05/
END:VEVENT
BEGIN:VEVENT
DTSTART;TZID=America/New_York:20261205T090000
DTEND;TZID=America/New_York:20261205T100000
DTSTAMP:20260420T033851
CREATED:20251123T174526Z
LAST-MODIFIED:20251123T174526Z
UID:10005258-1796461200-1796464800@www.ultimatephysiquefitness.com
SUMMARY:Saturday Surprise
DESCRIPTION:
URL:http://www.ultimatephysiquefitness.com/class/saturday-surprise/2026-12-05/
END:VEVENT
BEGIN:VEVENT
DTSTART;TZID=America/New_York:20261205T090000
DTEND;TZID=America/New_York:20261205T103000
DTSTAMP:20260420T033851
CREATED:20251123T174444Z
LAST-MODIFIED:20260414T165355Z
UID:10005649-1796461200-1796466600@www.ultimatephysiquefitness.com
SUMMARY:*Slow Flow Yoga
DESCRIPTION:Karen \n$8.00 members \n$12.00 Non members
URL:http://www.ultimatephysiquefitness.com/class/slow-flow-yoga/2026-12-05/
CATEGORIES:Yoga
END:VEVENT
BEGIN:VEVENT
DTSTART;TZID=America/New_York:20261206T083000
DTEND;TZID=America/New_York:20261206T093000
DTSTAMP:20260420T033851
CREATED:20251123T174307Z
LAST-MODIFIED:20260317T170226Z
UID:10005129-1796545800-1796549400@www.ultimatephysiquefitness.com
SUMMARY:*45 min. Vinyasa 15 min. Yin Yoga
DESCRIPTION:Belinda \n$8.00 Members \n$12.00 Non Members \n 
URL:http://www.ultimatephysiquefitness.com/class/45-min-vinyasa-15-min-yin-yoga/2026-12-06/
CATEGORIES:Yoga
END:VEVENT
BEGIN:VEVENT
DTSTART;TZID=America/New_York:20261206T090000
DTEND;TZID=America/New_York:20261206T100000
DTSTAMP:20260420T033851
CREATED:20251125T232250Z
LAST-MODIFIED:20260327T124200Z
UID:10005584-1796547600-1796551200@www.ultimatephysiquefitness.com
SUMMARY:Bootcamp
DESCRIPTION:Julie or Kelli
URL:http://www.ultimatephysiquefitness.com/class/bootcamp-2/2026-12-06/
END:VEVENT
BEGIN:VEVENT
DTSTART;TZID=America/New_York:20261207T083000
DTEND;TZID=America/New_York:20261207T110000
DTSTAMP:20260420T033851
CREATED:20251123T171631Z
LAST-MODIFIED:20251123T171631Z
UID:10004165-1796632200-1796641200@www.ultimatephysiquefitness.com
SUMMARY:Pickleball
DESCRIPTION:Members $3.00 \nNon Members $5.00
URL:http://www.ultimatephysiquefitness.com/class/pickleball/2026-12-07/
END:VEVENT
BEGIN:VEVENT
DTSTART;TZID=America/New_York:20261207T094500
DTEND;TZID=America/New_York:20261207T104500
DTSTAMP:20260420T033851
CREATED:20251123T171824Z
LAST-MODIFIED:20251123T171824Z
UID:10004231-1796636700-1796640300@www.ultimatephysiquefitness.com
SUMMARY:Circuit with Stations
DESCRIPTION:Karen
URL:http://www.ultimatephysiquefitness.com/class/circuit-with-stations/2026-12-07/
END:VEVENT
BEGIN:VEVENT
DTSTART;TZID=America/New_York:20261207T170000
DTEND;TZID=America/New_York:20261207T173000
DTSTAMP:20260420T033851
CREATED:20251123T171919Z
LAST-MODIFIED:20260215T170631Z
UID:10004296-1796662800-1796664600@www.ultimatephysiquefitness.com
SUMMARY:Cycling
DESCRIPTION:Karen or Jen
URL:http://www.ultimatephysiquefitness.com/class/cycling/2026-12-07/
END:VEVENT
BEGIN:VEVENT
DTSTART;TZID=America/New_York:20261207T173000
DTEND;TZID=America/New_York:20261207T180000
DTSTAMP:20260420T033851
CREATED:20251123T172031Z
LAST-MODIFIED:20260215T180229Z
UID:10004361-1796664600-1796666400@www.ultimatephysiquefitness.com
SUMMARY:Circuit
DESCRIPTION:Karen or Jen
URL:http://www.ultimatephysiquefitness.com/class/circuit/2026-12-07/
END:VEVENT
BEGIN:VEVENT
DTSTART;TZID=America/New_York:20261207T180000
DTEND;TZID=America/New_York:20261207T184500
DTSTAMP:20260420T033851
CREATED:20251123T172554Z
LAST-MODIFIED:20251123T172554Z
UID:10004427-1796666400-1796669100@www.ultimatephysiquefitness.com
SUMMARY:Cycling
DESCRIPTION:Ian
URL:http://www.ultimatephysiquefitness.com/class/cycling-2/2026-12-07/
END:VEVENT
BEGIN:VEVENT
DTSTART;TZID=America/New_York:20261207T183000
DTEND;TZID=America/New_York:20261207T200000
DTSTAMP:20260420T033851
CREATED:20251123T172701Z
LAST-MODIFIED:20260212T120259Z
UID:10004493-1796668200-1796673600@www.ultimatephysiquefitness.com
SUMMARY:*Hatha Yoga
DESCRIPTION:Karen \nMembers $8.00 \nNon-Members $12.00
URL:http://www.ultimatephysiquefitness.com/class/hatha-yoga/2026-12-07/
CATEGORIES:Yoga
END:VEVENT
BEGIN:VEVENT
DTSTART;TZID=America/New_York:20261208T100000
DTEND;TZID=America/New_York:20261208T110000
DTSTAMP:20260420T033851
CREATED:20251123T172938Z
LAST-MODIFIED:20260317T140601Z
UID:10004558-1796724000-1796727600@www.ultimatephysiquefitness.com
SUMMARY:Low Impact Fitness
DESCRIPTION:Marianne
URL:http://www.ultimatephysiquefitness.com/class/low-impact-fitness/2026-12-08/
END:VEVENT
BEGIN:VEVENT
DTSTART;TZID=America/New_York:20261208T173000
DTEND;TZID=America/New_York:20261208T183000
DTSTAMP:20260420T033851
CREATED:20251123T173116Z
LAST-MODIFIED:20260327T124012Z
UID:10004622-1796751000-1796754600@www.ultimatephysiquefitness.com
SUMMARY:*Power Vinyasa Yoga
DESCRIPTION:Belinda \nMembers $8.00 \nNon Members $12.00
URL:http://www.ultimatephysiquefitness.com/class/power-vinyasa-yoga/2026-12-08/
CATEGORIES:Yoga
END:VEVENT
BEGIN:VEVENT
DTSTART;TZID=America/New_York:20261208T180000
DTEND;TZID=America/New_York:20261208T190000
DTSTAMP:20260420T033851
CREATED:20251123T173205Z
LAST-MODIFIED:20251123T173205Z
UID:10004687-1796752800-1796756400@www.ultimatephysiquefitness.com
SUMMARY:Bootcamp
DESCRIPTION:
URL:http://www.ultimatephysiquefitness.com/class/bootcamp/2026-12-08/
END:VEVENT
BEGIN:VEVENT
DTSTART;TZID=America/New_York:20261209T083000
DTEND;TZID=America/New_York:20261209T110000
DTSTAMP:20260420T033851
CREATED:20251123T173410Z
LAST-MODIFIED:20251123T173410Z
UID:10004753-1796805000-1796814000@www.ultimatephysiquefitness.com
SUMMARY:Pickleball
DESCRIPTION:Members $3.00 \nNon Members $5.00
URL:http://www.ultimatephysiquefitness.com/class/pickleball-2/2026-12-09/
END:VEVENT
BEGIN:VEVENT
DTSTART;TZID=America/New_York:20261209T094500
DTEND;TZID=America/New_York:20261209T104500
DTSTAMP:20260420T033851
CREATED:20251123T173544Z
LAST-MODIFIED:20251222T162746Z
UID:10004816-1796809500-1796813100@www.ultimatephysiquefitness.com
SUMMARY:Cardio & Strength
DESCRIPTION:Karen
URL:http://www.ultimatephysiquefitness.com/class/cardio-strength/2026-12-09/
END:VEVENT
BEGIN:VEVENT
DTSTART;TZID=America/New_York:20261209T170000
DTEND;TZID=America/New_York:20261209T173000
DTSTAMP:20260420T033851
CREATED:20260329T133020Z
LAST-MODIFIED:20260329T133021Z
UID:10005721-1796835600-1796837400@www.ultimatephysiquefitness.com
SUMMARY:Cycling
DESCRIPTION:Julie
URL:http://www.ultimatephysiquefitness.com/class/cycling-3-2/2026-12-09/
END:VEVENT
BEGIN:VEVENT
DTSTART;TZID=America/New_York:20261209T173000
DTEND;TZID=America/New_York:20261209T180000
DTSTAMP:20260420T033851
CREATED:20260329T135356Z
LAST-MODIFIED:20260329T141503Z
UID:10005766-1796837400-1796839200@www.ultimatephysiquefitness.com
SUMMARY:Circuit
DESCRIPTION:Julie
URL:http://www.ultimatephysiquefitness.com/class/circuit-2-2/2026-12-09/
END:VEVENT
BEGIN:VEVENT
DTSTART;TZID=America/New_York:20261209T180000
DTEND;TZID=America/New_York:20261209T190000
DTSTAMP:20260420T033851
CREATED:20251123T174004Z
LAST-MODIFIED:20260317T170538Z
UID:10005003-1796839200-1796842800@www.ultimatephysiquefitness.com
SUMMARY:*Gentle/Beginner Yoga
DESCRIPTION:Gail \nMembers $8.00 \nNon Members $12.00
URL:http://www.ultimatephysiquefitness.com/class/gentle-beginner-yoga/2026-12-09/
CATEGORIES:Yoga
END:VEVENT
BEGIN:VEVENT
DTSTART;TZID=America/New_York:20261210T093000
DTEND;TZID=America/New_York:20261210T110000
DTSTAMP:20260420T033851
CREATED:20251123T174119Z
LAST-MODIFIED:20260115T132102Z
UID:10005066-1796895000-1796900400@www.ultimatephysiquefitness.com
SUMMARY:*Hatha Yoga
DESCRIPTION:Karen \nMembers $8.00 \nNon Members $12.00
URL:http://www.ultimatephysiquefitness.com/class/hatha-yoga-2/2026-12-10/
CATEGORIES:Yoga
END:VEVENT
END:VCALENDAR