BEGIN:VCALENDAR
VERSION:2.0
PRODID:-//Ultimate Physique Fitness - ECPv6.15.12.2//NONSGML v1.0//EN
CALSCALE:GREGORIAN
METHOD:PUBLISH
X-ORIGINAL-URL:http://www.ultimatephysiquefitness.com
X-WR-CALDESC:Events for Ultimate Physique Fitness
REFRESH-INTERVAL;VALUE=DURATION:PT1H
X-Robots-Tag:noindex
X-PUBLISHED-TTL:PT1H
BEGIN:VTIMEZONE
TZID:America/New_York
BEGIN:DAYLIGHT
TZOFFSETFROM:-0500
TZOFFSETTO:-0400
TZNAME:EDT
DTSTART:20250309T070000
END:DAYLIGHT
BEGIN:STANDARD
TZOFFSETFROM:-0400
TZOFFSETTO:-0500
TZNAME:EST
DTSTART:20251102T060000
END:STANDARD
BEGIN:DAYLIGHT
TZOFFSETFROM:-0500
TZOFFSETTO:-0400
TZNAME:EDT
DTSTART:20260308T070000
END:DAYLIGHT
BEGIN:STANDARD
TZOFFSETFROM:-0400
TZOFFSETTO:-0500
TZNAME:EST
DTSTART:20261101T060000
END:STANDARD
BEGIN:DAYLIGHT
TZOFFSETFROM:-0500
TZOFFSETTO:-0400
TZNAME:EDT
DTSTART:20270314T070000
END:DAYLIGHT
BEGIN:STANDARD
TZOFFSETFROM:-0400
TZOFFSETTO:-0500
TZNAME:EST
DTSTART:20271107T060000
END:STANDARD
END:VTIMEZONE
BEGIN:VEVENT
DTSTART;TZID=America/New_York:20261001T093000
DTEND;TZID=America/New_York:20261001T110000
DTSTAMP:20260419T234919
CREATED:20251123T174119Z
LAST-MODIFIED:20260115T132102Z
UID:10005056-1790847000-1790852400@www.ultimatephysiquefitness.com
SUMMARY:*Hatha Yoga
DESCRIPTION:Karen \nMembers $8.00 \nNon Members $12.00
URL:http://www.ultimatephysiquefitness.com/class/hatha-yoga-2/2026-10-01/
CATEGORIES:Yoga
END:VEVENT
BEGIN:VEVENT
DTSTART;TZID=America/New_York:20261002T083000
DTEND;TZID=America/New_York:20261002T110000
DTSTAMP:20260419T234919
CREATED:20251123T174834Z
LAST-MODIFIED:20251123T174834Z
UID:10005318-1790929800-1790938800@www.ultimatephysiquefitness.com
SUMMARY:Pickleball
DESCRIPTION:No charge on Friday’s for Members \nNon Members $5.00
URL:http://www.ultimatephysiquefitness.com/class/pickleball-3/2026-10-02/
END:VEVENT
BEGIN:VEVENT
DTSTART;TZID=America/New_York:20261003T081500
DTEND;TZID=America/New_York:20261003T090000
DTSTAMP:20260419T234919
CREATED:20251123T174920Z
LAST-MODIFIED:20251123T174920Z
UID:10005383-1791015300-1791018000@www.ultimatephysiquefitness.com
SUMMARY:Cycling
DESCRIPTION:
URL:http://www.ultimatephysiquefitness.com/class/cycling-4/2026-10-03/
END:VEVENT
BEGIN:VEVENT
DTSTART;TZID=America/New_York:20261003T090000
DTEND;TZID=America/New_York:20261003T100000
DTSTAMP:20260419T234919
CREATED:20251123T174526Z
LAST-MODIFIED:20251123T174526Z
UID:10005249-1791018000-1791021600@www.ultimatephysiquefitness.com
SUMMARY:Saturday Surprise
DESCRIPTION:
URL:http://www.ultimatephysiquefitness.com/class/saturday-surprise/2026-10-03/
END:VEVENT
BEGIN:VEVENT
DTSTART;TZID=America/New_York:20261003T090000
DTEND;TZID=America/New_York:20261003T103000
DTSTAMP:20260419T234919
CREATED:20251123T174444Z
LAST-MODIFIED:20260414T165355Z
UID:10005640-1791018000-1791023400@www.ultimatephysiquefitness.com
SUMMARY:*Slow Flow Yoga
DESCRIPTION:Karen \n$8.00 members \n$12.00 Non members
URL:http://www.ultimatephysiquefitness.com/class/slow-flow-yoga/2026-10-03/
CATEGORIES:Yoga
END:VEVENT
BEGIN:VEVENT
DTSTART;TZID=America/New_York:20261004T083000
DTEND;TZID=America/New_York:20261004T093000
DTSTAMP:20260419T234919
CREATED:20251123T174307Z
LAST-MODIFIED:20260317T170226Z
UID:10005120-1791102600-1791106200@www.ultimatephysiquefitness.com
SUMMARY:*45 min. Vinyasa 15 min. Yin Yoga
DESCRIPTION:Belinda \n$8.00 Members \n$12.00 Non Members \n 
URL:http://www.ultimatephysiquefitness.com/class/45-min-vinyasa-15-min-yin-yoga/2026-10-04/
CATEGORIES:Yoga
END:VEVENT
BEGIN:VEVENT
DTSTART;TZID=America/New_York:20261004T090000
DTEND;TZID=America/New_York:20261004T100000
DTSTAMP:20260419T234919
CREATED:20251125T232250Z
LAST-MODIFIED:20260327T124200Z
UID:10005575-1791104400-1791108000@www.ultimatephysiquefitness.com
SUMMARY:Bootcamp
DESCRIPTION:Julie or Kelli
URL:http://www.ultimatephysiquefitness.com/class/bootcamp-2/2026-10-04/
END:VEVENT
BEGIN:VEVENT
DTSTART;TZID=America/New_York:20261005T083000
DTEND;TZID=America/New_York:20261005T110000
DTSTAMP:20260419T234919
CREATED:20251123T171631Z
LAST-MODIFIED:20251123T171631Z
UID:10004156-1791189000-1791198000@www.ultimatephysiquefitness.com
SUMMARY:Pickleball
DESCRIPTION:Members $3.00 \nNon Members $5.00
URL:http://www.ultimatephysiquefitness.com/class/pickleball/2026-10-05/
END:VEVENT
BEGIN:VEVENT
DTSTART;TZID=America/New_York:20261005T094500
DTEND;TZID=America/New_York:20261005T104500
DTSTAMP:20260419T234919
CREATED:20251123T171824Z
LAST-MODIFIED:20251123T171824Z
UID:10004222-1791193500-1791197100@www.ultimatephysiquefitness.com
SUMMARY:Circuit with Stations
DESCRIPTION:Karen
URL:http://www.ultimatephysiquefitness.com/class/circuit-with-stations/2026-10-05/
END:VEVENT
BEGIN:VEVENT
DTSTART;TZID=America/New_York:20261005T170000
DTEND;TZID=America/New_York:20261005T173000
DTSTAMP:20260419T234919
CREATED:20251123T171919Z
LAST-MODIFIED:20260215T170631Z
UID:10004287-1791219600-1791221400@www.ultimatephysiquefitness.com
SUMMARY:Cycling
DESCRIPTION:Karen or Jen
URL:http://www.ultimatephysiquefitness.com/class/cycling/2026-10-05/
END:VEVENT
BEGIN:VEVENT
DTSTART;TZID=America/New_York:20261005T173000
DTEND;TZID=America/New_York:20261005T180000
DTSTAMP:20260419T234919
CREATED:20251123T172031Z
LAST-MODIFIED:20260215T180229Z
UID:10004352-1791221400-1791223200@www.ultimatephysiquefitness.com
SUMMARY:Circuit
DESCRIPTION:Karen or Jen
URL:http://www.ultimatephysiquefitness.com/class/circuit/2026-10-05/
END:VEVENT
BEGIN:VEVENT
DTSTART;TZID=America/New_York:20261005T180000
DTEND;TZID=America/New_York:20261005T184500
DTSTAMP:20260419T234919
CREATED:20251123T172554Z
LAST-MODIFIED:20251123T172554Z
UID:10004418-1791223200-1791225900@www.ultimatephysiquefitness.com
SUMMARY:Cycling
DESCRIPTION:Ian
URL:http://www.ultimatephysiquefitness.com/class/cycling-2/2026-10-05/
END:VEVENT
BEGIN:VEVENT
DTSTART;TZID=America/New_York:20261005T183000
DTEND;TZID=America/New_York:20261005T200000
DTSTAMP:20260419T234919
CREATED:20251123T172701Z
LAST-MODIFIED:20260212T120259Z
UID:10004484-1791225000-1791230400@www.ultimatephysiquefitness.com
SUMMARY:*Hatha Yoga
DESCRIPTION:Karen \nMembers $8.00 \nNon-Members $12.00
URL:http://www.ultimatephysiquefitness.com/class/hatha-yoga/2026-10-05/
CATEGORIES:Yoga
END:VEVENT
BEGIN:VEVENT
DTSTART;TZID=America/New_York:20261006T100000
DTEND;TZID=America/New_York:20261006T110000
DTSTAMP:20260419T234919
CREATED:20251123T172938Z
LAST-MODIFIED:20260317T140601Z
UID:10004549-1791280800-1791284400@www.ultimatephysiquefitness.com
SUMMARY:Low Impact Fitness
DESCRIPTION:Marianne
URL:http://www.ultimatephysiquefitness.com/class/low-impact-fitness/2026-10-06/
END:VEVENT
BEGIN:VEVENT
DTSTART;TZID=America/New_York:20261006T173000
DTEND;TZID=America/New_York:20261006T183000
DTSTAMP:20260419T234919
CREATED:20251123T173116Z
LAST-MODIFIED:20260327T124012Z
UID:10004613-1791307800-1791311400@www.ultimatephysiquefitness.com
SUMMARY:*Power Vinyasa Yoga
DESCRIPTION:Belinda \nMembers $8.00 \nNon Members $12.00
URL:http://www.ultimatephysiquefitness.com/class/power-vinyasa-yoga/2026-10-06/
CATEGORIES:Yoga
END:VEVENT
BEGIN:VEVENT
DTSTART;TZID=America/New_York:20261006T180000
DTEND;TZID=America/New_York:20261006T190000
DTSTAMP:20260419T234919
CREATED:20251123T173205Z
LAST-MODIFIED:20251123T173205Z
UID:10004678-1791309600-1791313200@www.ultimatephysiquefitness.com
SUMMARY:Bootcamp
DESCRIPTION:
URL:http://www.ultimatephysiquefitness.com/class/bootcamp/2026-10-06/
END:VEVENT
BEGIN:VEVENT
DTSTART;TZID=America/New_York:20261007T083000
DTEND;TZID=America/New_York:20261007T110000
DTSTAMP:20260419T234919
CREATED:20251123T173410Z
LAST-MODIFIED:20251123T173410Z
UID:10004744-1791361800-1791370800@www.ultimatephysiquefitness.com
SUMMARY:Pickleball
DESCRIPTION:Members $3.00 \nNon Members $5.00
URL:http://www.ultimatephysiquefitness.com/class/pickleball-2/2026-10-07/
END:VEVENT
BEGIN:VEVENT
DTSTART;TZID=America/New_York:20261007T094500
DTEND;TZID=America/New_York:20261007T104500
DTSTAMP:20260419T234919
CREATED:20251123T173544Z
LAST-MODIFIED:20251222T162746Z
UID:10004807-1791366300-1791369900@www.ultimatephysiquefitness.com
SUMMARY:Cardio & Strength
DESCRIPTION:Karen
URL:http://www.ultimatephysiquefitness.com/class/cardio-strength/2026-10-07/
END:VEVENT
BEGIN:VEVENT
DTSTART;TZID=America/New_York:20261007T170000
DTEND;TZID=America/New_York:20261007T173000
DTSTAMP:20260419T234919
CREATED:20260329T133020Z
LAST-MODIFIED:20260329T133021Z
UID:10005712-1791392400-1791394200@www.ultimatephysiquefitness.com
SUMMARY:Cycling
DESCRIPTION:Julie
URL:http://www.ultimatephysiquefitness.com/class/cycling-3-2/2026-10-07/
END:VEVENT
BEGIN:VEVENT
DTSTART;TZID=America/New_York:20261007T173000
DTEND;TZID=America/New_York:20261007T180000
DTSTAMP:20260419T234919
CREATED:20260329T135356Z
LAST-MODIFIED:20260329T141503Z
UID:10005757-1791394200-1791396000@www.ultimatephysiquefitness.com
SUMMARY:Circuit
DESCRIPTION:Julie
URL:http://www.ultimatephysiquefitness.com/class/circuit-2-2/2026-10-07/
END:VEVENT
BEGIN:VEVENT
DTSTART;TZID=America/New_York:20261007T180000
DTEND;TZID=America/New_York:20261007T190000
DTSTAMP:20260419T234919
CREATED:20251123T174004Z
LAST-MODIFIED:20260317T170538Z
UID:10004994-1791396000-1791399600@www.ultimatephysiquefitness.com
SUMMARY:*Gentle/Beginner Yoga
DESCRIPTION:Gail \nMembers $8.00 \nNon Members $12.00
URL:http://www.ultimatephysiquefitness.com/class/gentle-beginner-yoga/2026-10-07/
CATEGORIES:Yoga
END:VEVENT
BEGIN:VEVENT
DTSTART;TZID=America/New_York:20261008T093000
DTEND;TZID=America/New_York:20261008T110000
DTSTAMP:20260419T234919
CREATED:20251123T174119Z
LAST-MODIFIED:20260115T132102Z
UID:10005057-1791451800-1791457200@www.ultimatephysiquefitness.com
SUMMARY:*Hatha Yoga
DESCRIPTION:Karen \nMembers $8.00 \nNon Members $12.00
URL:http://www.ultimatephysiquefitness.com/class/hatha-yoga-2/2026-10-08/
CATEGORIES:Yoga
END:VEVENT
BEGIN:VEVENT
DTSTART;TZID=America/New_York:20261009T083000
DTEND;TZID=America/New_York:20261009T110000
DTSTAMP:20260419T234919
CREATED:20251123T174834Z
LAST-MODIFIED:20251123T174834Z
UID:10005319-1791534600-1791543600@www.ultimatephysiquefitness.com
SUMMARY:Pickleball
DESCRIPTION:No charge on Friday’s for Members \nNon Members $5.00
URL:http://www.ultimatephysiquefitness.com/class/pickleball-3/2026-10-09/
END:VEVENT
BEGIN:VEVENT
DTSTART;TZID=America/New_York:20261010T081500
DTEND;TZID=America/New_York:20261010T090000
DTSTAMP:20260419T234919
CREATED:20251123T174920Z
LAST-MODIFIED:20251123T174920Z
UID:10005384-1791620100-1791622800@www.ultimatephysiquefitness.com
SUMMARY:Cycling
DESCRIPTION:
URL:http://www.ultimatephysiquefitness.com/class/cycling-4/2026-10-10/
END:VEVENT
BEGIN:VEVENT
DTSTART;TZID=America/New_York:20261010T090000
DTEND;TZID=America/New_York:20261010T100000
DTSTAMP:20260419T234919
CREATED:20251123T174526Z
LAST-MODIFIED:20251123T174526Z
UID:10005250-1791622800-1791626400@www.ultimatephysiquefitness.com
SUMMARY:Saturday Surprise
DESCRIPTION:
URL:http://www.ultimatephysiquefitness.com/class/saturday-surprise/2026-10-10/
END:VEVENT
BEGIN:VEVENT
DTSTART;TZID=America/New_York:20261010T090000
DTEND;TZID=America/New_York:20261010T103000
DTSTAMP:20260419T234920
CREATED:20251123T174444Z
LAST-MODIFIED:20260414T165355Z
UID:10005641-1791622800-1791628200@www.ultimatephysiquefitness.com
SUMMARY:*Slow Flow Yoga
DESCRIPTION:Karen \n$8.00 members \n$12.00 Non members
URL:http://www.ultimatephysiquefitness.com/class/slow-flow-yoga/2026-10-10/
CATEGORIES:Yoga
END:VEVENT
BEGIN:VEVENT
DTSTART;TZID=America/New_York:20261011T083000
DTEND;TZID=America/New_York:20261011T093000
DTSTAMP:20260419T234920
CREATED:20251123T174307Z
LAST-MODIFIED:20260317T170226Z
UID:10005121-1791707400-1791711000@www.ultimatephysiquefitness.com
SUMMARY:*45 min. Vinyasa 15 min. Yin Yoga
DESCRIPTION:Belinda \n$8.00 Members \n$12.00 Non Members \n 
URL:http://www.ultimatephysiquefitness.com/class/45-min-vinyasa-15-min-yin-yoga/2026-10-11/
CATEGORIES:Yoga
END:VEVENT
BEGIN:VEVENT
DTSTART;TZID=America/New_York:20261011T090000
DTEND;TZID=America/New_York:20261011T100000
DTSTAMP:20260419T234920
CREATED:20251125T232250Z
LAST-MODIFIED:20260327T124200Z
UID:10005576-1791709200-1791712800@www.ultimatephysiquefitness.com
SUMMARY:Bootcamp
DESCRIPTION:Julie or Kelli
URL:http://www.ultimatephysiquefitness.com/class/bootcamp-2/2026-10-11/
END:VEVENT
BEGIN:VEVENT
DTSTART;TZID=America/New_York:20261012T083000
DTEND;TZID=America/New_York:20261012T110000
DTSTAMP:20260419T234920
CREATED:20251123T171631Z
LAST-MODIFIED:20251123T171631Z
UID:10004157-1791793800-1791802800@www.ultimatephysiquefitness.com
SUMMARY:Pickleball
DESCRIPTION:Members $3.00 \nNon Members $5.00
URL:http://www.ultimatephysiquefitness.com/class/pickleball/2026-10-12/
END:VEVENT
BEGIN:VEVENT
DTSTART;TZID=America/New_York:20261012T094500
DTEND;TZID=America/New_York:20261012T104500
DTSTAMP:20260419T234920
CREATED:20251123T171824Z
LAST-MODIFIED:20251123T171824Z
UID:10004223-1791798300-1791801900@www.ultimatephysiquefitness.com
SUMMARY:Circuit with Stations
DESCRIPTION:Karen
URL:http://www.ultimatephysiquefitness.com/class/circuit-with-stations/2026-10-12/
END:VEVENT
END:VCALENDAR