BEGIN:VCALENDAR
VERSION:2.0
PRODID:-//Ultimate Physique Fitness - ECPv6.15.12.2//NONSGML v1.0//EN
CALSCALE:GREGORIAN
METHOD:PUBLISH
X-WR-CALNAME:Ultimate Physique Fitness
X-ORIGINAL-URL:http://www.ultimatephysiquefitness.com
X-WR-CALDESC:Events for Ultimate Physique Fitness
REFRESH-INTERVAL;VALUE=DURATION:PT1H
X-Robots-Tag:noindex
X-PUBLISHED-TTL:PT1H
BEGIN:VTIMEZONE
TZID:America/New_York
BEGIN:DAYLIGHT
TZOFFSETFROM:-0500
TZOFFSETTO:-0400
TZNAME:EDT
DTSTART:20250309T070000
END:DAYLIGHT
BEGIN:STANDARD
TZOFFSETFROM:-0400
TZOFFSETTO:-0500
TZNAME:EST
DTSTART:20251102T060000
END:STANDARD
BEGIN:DAYLIGHT
TZOFFSETFROM:-0500
TZOFFSETTO:-0400
TZNAME:EDT
DTSTART:20260308T070000
END:DAYLIGHT
BEGIN:STANDARD
TZOFFSETFROM:-0400
TZOFFSETTO:-0500
TZNAME:EST
DTSTART:20261101T060000
END:STANDARD
BEGIN:DAYLIGHT
TZOFFSETFROM:-0500
TZOFFSETTO:-0400
TZNAME:EDT
DTSTART:20270314T070000
END:DAYLIGHT
BEGIN:STANDARD
TZOFFSETFROM:-0400
TZOFFSETTO:-0500
TZNAME:EST
DTSTART:20271107T060000
END:STANDARD
END:VTIMEZONE
BEGIN:VEVENT
DTSTART;TZID=America/New_York:20260801T081500
DTEND;TZID=America/New_York:20260801T090000
DTSTAMP:20260419T203040
CREATED:20251123T174920Z
LAST-MODIFIED:20251123T174920Z
UID:10005374-1785572100-1785574800@www.ultimatephysiquefitness.com
SUMMARY:Cycling
DESCRIPTION:
URL:http://www.ultimatephysiquefitness.com/class/cycling-4/2026-08-01/
END:VEVENT
BEGIN:VEVENT
DTSTART;TZID=America/New_York:20260801T090000
DTEND;TZID=America/New_York:20260801T100000
DTSTAMP:20260419T203040
CREATED:20251123T174526Z
LAST-MODIFIED:20251123T174526Z
UID:10005240-1785574800-1785578400@www.ultimatephysiquefitness.com
SUMMARY:Saturday Surprise
DESCRIPTION:
URL:http://www.ultimatephysiquefitness.com/class/saturday-surprise/2026-08-01/
END:VEVENT
BEGIN:VEVENT
DTSTART;TZID=America/New_York:20260801T090000
DTEND;TZID=America/New_York:20260801T103000
DTSTAMP:20260419T203040
CREATED:20251123T174444Z
LAST-MODIFIED:20260414T165355Z
UID:10005631-1785574800-1785580200@www.ultimatephysiquefitness.com
SUMMARY:*Slow Flow Yoga
DESCRIPTION:Karen \n$8.00 members \n$12.00 Non members
URL:http://www.ultimatephysiquefitness.com/class/slow-flow-yoga/2026-08-01/
CATEGORIES:Yoga
END:VEVENT
BEGIN:VEVENT
DTSTART;TZID=America/New_York:20260802T083000
DTEND;TZID=America/New_York:20260802T093000
DTSTAMP:20260419T203040
CREATED:20251123T174307Z
LAST-MODIFIED:20260317T170226Z
UID:10005111-1785659400-1785663000@www.ultimatephysiquefitness.com
SUMMARY:*45 min. Vinyasa 15 min. Yin Yoga
DESCRIPTION:Belinda \n$8.00 Members \n$12.00 Non Members \n 
URL:http://www.ultimatephysiquefitness.com/class/45-min-vinyasa-15-min-yin-yoga/2026-08-02/
CATEGORIES:Yoga
END:VEVENT
BEGIN:VEVENT
DTSTART;TZID=America/New_York:20260802T090000
DTEND;TZID=America/New_York:20260802T100000
DTSTAMP:20260419T203040
CREATED:20251125T232250Z
LAST-MODIFIED:20260327T124200Z
UID:10005566-1785661200-1785664800@www.ultimatephysiquefitness.com
SUMMARY:Bootcamp
DESCRIPTION:Julie or Kelli
URL:http://www.ultimatephysiquefitness.com/class/bootcamp-2/2026-08-02/
END:VEVENT
BEGIN:VEVENT
DTSTART;TZID=America/New_York:20260803T083000
DTEND;TZID=America/New_York:20260803T110000
DTSTAMP:20260419T203040
CREATED:20251123T171631Z
LAST-MODIFIED:20251123T171631Z
UID:10004147-1785745800-1785754800@www.ultimatephysiquefitness.com
SUMMARY:Pickleball
DESCRIPTION:Members $3.00 \nNon Members $5.00
URL:http://www.ultimatephysiquefitness.com/class/pickleball/2026-08-03/
END:VEVENT
BEGIN:VEVENT
DTSTART;TZID=America/New_York:20260803T094500
DTEND;TZID=America/New_York:20260803T104500
DTSTAMP:20260419T203040
CREATED:20251123T171824Z
LAST-MODIFIED:20251123T171824Z
UID:10004213-1785750300-1785753900@www.ultimatephysiquefitness.com
SUMMARY:Circuit with Stations
DESCRIPTION:Karen
URL:http://www.ultimatephysiquefitness.com/class/circuit-with-stations/2026-08-03/
END:VEVENT
BEGIN:VEVENT
DTSTART;TZID=America/New_York:20260803T170000
DTEND;TZID=America/New_York:20260803T173000
DTSTAMP:20260419T203041
CREATED:20251123T171919Z
LAST-MODIFIED:20260215T170631Z
UID:10004278-1785776400-1785778200@www.ultimatephysiquefitness.com
SUMMARY:Cycling
DESCRIPTION:Karen or Jen
URL:http://www.ultimatephysiquefitness.com/class/cycling/2026-08-03/
END:VEVENT
BEGIN:VEVENT
DTSTART;TZID=America/New_York:20260803T173000
DTEND;TZID=America/New_York:20260803T180000
DTSTAMP:20260419T203041
CREATED:20251123T172031Z
LAST-MODIFIED:20260215T180229Z
UID:10004343-1785778200-1785780000@www.ultimatephysiquefitness.com
SUMMARY:Circuit
DESCRIPTION:Karen or Jen
URL:http://www.ultimatephysiquefitness.com/class/circuit/2026-08-03/
END:VEVENT
BEGIN:VEVENT
DTSTART;TZID=America/New_York:20260803T180000
DTEND;TZID=America/New_York:20260803T184500
DTSTAMP:20260419T203041
CREATED:20251123T172554Z
LAST-MODIFIED:20251123T172554Z
UID:10004409-1785780000-1785782700@www.ultimatephysiquefitness.com
SUMMARY:Cycling
DESCRIPTION:Ian
URL:http://www.ultimatephysiquefitness.com/class/cycling-2/2026-08-03/
END:VEVENT
BEGIN:VEVENT
DTSTART;TZID=America/New_York:20260803T183000
DTEND;TZID=America/New_York:20260803T200000
DTSTAMP:20260419T203041
CREATED:20251123T172701Z
LAST-MODIFIED:20260212T120259Z
UID:10004475-1785781800-1785787200@www.ultimatephysiquefitness.com
SUMMARY:*Hatha Yoga
DESCRIPTION:Karen \nMembers $8.00 \nNon-Members $12.00
URL:http://www.ultimatephysiquefitness.com/class/hatha-yoga/2026-08-03/
CATEGORIES:Yoga
END:VEVENT
BEGIN:VEVENT
DTSTART;TZID=America/New_York:20260804T100000
DTEND;TZID=America/New_York:20260804T110000
DTSTAMP:20260419T203041
CREATED:20251123T172938Z
LAST-MODIFIED:20260317T140601Z
UID:10004540-1785837600-1785841200@www.ultimatephysiquefitness.com
SUMMARY:Low Impact Fitness
DESCRIPTION:Marianne
URL:http://www.ultimatephysiquefitness.com/class/low-impact-fitness/2026-08-04/
END:VEVENT
BEGIN:VEVENT
DTSTART;TZID=America/New_York:20260804T173000
DTEND;TZID=America/New_York:20260804T183000
DTSTAMP:20260419T203041
CREATED:20251123T173116Z
LAST-MODIFIED:20260327T124012Z
UID:10004604-1785864600-1785868200@www.ultimatephysiquefitness.com
SUMMARY:*Power Vinyasa Yoga
DESCRIPTION:Belinda \nMembers $8.00 \nNon Members $12.00
URL:http://www.ultimatephysiquefitness.com/class/power-vinyasa-yoga/2026-08-04/
CATEGORIES:Yoga
END:VEVENT
BEGIN:VEVENT
DTSTART;TZID=America/New_York:20260804T180000
DTEND;TZID=America/New_York:20260804T190000
DTSTAMP:20260419T203041
CREATED:20251123T173205Z
LAST-MODIFIED:20251123T173205Z
UID:10004669-1785866400-1785870000@www.ultimatephysiquefitness.com
SUMMARY:Bootcamp
DESCRIPTION:
URL:http://www.ultimatephysiquefitness.com/class/bootcamp/2026-08-04/
END:VEVENT
BEGIN:VEVENT
DTSTART;TZID=America/New_York:20260805T083000
DTEND;TZID=America/New_York:20260805T110000
DTSTAMP:20260419T203041
CREATED:20251123T173410Z
LAST-MODIFIED:20251123T173410Z
UID:10004735-1785918600-1785927600@www.ultimatephysiquefitness.com
SUMMARY:Pickleball
DESCRIPTION:Members $3.00 \nNon Members $5.00
URL:http://www.ultimatephysiquefitness.com/class/pickleball-2/2026-08-05/
END:VEVENT
BEGIN:VEVENT
DTSTART;TZID=America/New_York:20260805T094500
DTEND;TZID=America/New_York:20260805T104500
DTSTAMP:20260419T203041
CREATED:20251123T173544Z
LAST-MODIFIED:20251222T162746Z
UID:10004798-1785923100-1785926700@www.ultimatephysiquefitness.com
SUMMARY:Cardio & Strength
DESCRIPTION:Karen
URL:http://www.ultimatephysiquefitness.com/class/cardio-strength/2026-08-05/
END:VEVENT
BEGIN:VEVENT
DTSTART;TZID=America/New_York:20260805T170000
DTEND;TZID=America/New_York:20260805T173000
DTSTAMP:20260419T203041
CREATED:20260329T133020Z
LAST-MODIFIED:20260329T133021Z
UID:10005703-1785949200-1785951000@www.ultimatephysiquefitness.com
SUMMARY:Cycling
DESCRIPTION:Julie
URL:http://www.ultimatephysiquefitness.com/class/cycling-3-2/2026-08-05/
END:VEVENT
BEGIN:VEVENT
DTSTART;TZID=America/New_York:20260805T173000
DTEND;TZID=America/New_York:20260805T180000
DTSTAMP:20260419T203041
CREATED:20260329T135356Z
LAST-MODIFIED:20260329T141503Z
UID:10005748-1785951000-1785952800@www.ultimatephysiquefitness.com
SUMMARY:Circuit
DESCRIPTION:Julie
URL:http://www.ultimatephysiquefitness.com/class/circuit-2-2/2026-08-05/
END:VEVENT
BEGIN:VEVENT
DTSTART;TZID=America/New_York:20260805T180000
DTEND;TZID=America/New_York:20260805T190000
DTSTAMP:20260419T203041
CREATED:20251123T174004Z
LAST-MODIFIED:20260317T170538Z
UID:10004985-1785952800-1785956400@www.ultimatephysiquefitness.com
SUMMARY:*Gentle/Beginner Yoga
DESCRIPTION:Gail \nMembers $8.00 \nNon Members $12.00
URL:http://www.ultimatephysiquefitness.com/class/gentle-beginner-yoga/2026-08-05/
CATEGORIES:Yoga
END:VEVENT
BEGIN:VEVENT
DTSTART;TZID=America/New_York:20260806T093000
DTEND;TZID=America/New_York:20260806T110000
DTSTAMP:20260419T203041
CREATED:20251123T174119Z
LAST-MODIFIED:20260115T132102Z
UID:10005048-1786008600-1786014000@www.ultimatephysiquefitness.com
SUMMARY:*Hatha Yoga
DESCRIPTION:Karen \nMembers $8.00 \nNon Members $12.00
URL:http://www.ultimatephysiquefitness.com/class/hatha-yoga-2/2026-08-06/
CATEGORIES:Yoga
END:VEVENT
BEGIN:VEVENT
DTSTART;TZID=America/New_York:20260807T083000
DTEND;TZID=America/New_York:20260807T110000
DTSTAMP:20260419T203041
CREATED:20251123T174834Z
LAST-MODIFIED:20251123T174834Z
UID:10005310-1786091400-1786100400@www.ultimatephysiquefitness.com
SUMMARY:Pickleball
DESCRIPTION:No charge on Friday’s for Members \nNon Members $5.00
URL:http://www.ultimatephysiquefitness.com/class/pickleball-3/2026-08-07/
END:VEVENT
BEGIN:VEVENT
DTSTART;TZID=America/New_York:20260808T081500
DTEND;TZID=America/New_York:20260808T090000
DTSTAMP:20260419T203041
CREATED:20251123T174920Z
LAST-MODIFIED:20251123T174920Z
UID:10005375-1786176900-1786179600@www.ultimatephysiquefitness.com
SUMMARY:Cycling
DESCRIPTION:
URL:http://www.ultimatephysiquefitness.com/class/cycling-4/2026-08-08/
END:VEVENT
BEGIN:VEVENT
DTSTART;TZID=America/New_York:20260808T090000
DTEND;TZID=America/New_York:20260808T100000
DTSTAMP:20260419T203041
CREATED:20251123T174526Z
LAST-MODIFIED:20251123T174526Z
UID:10005241-1786179600-1786183200@www.ultimatephysiquefitness.com
SUMMARY:Saturday Surprise
DESCRIPTION:
URL:http://www.ultimatephysiquefitness.com/class/saturday-surprise/2026-08-08/
END:VEVENT
BEGIN:VEVENT
DTSTART;TZID=America/New_York:20260808T090000
DTEND;TZID=America/New_York:20260808T103000
DTSTAMP:20260419T203041
CREATED:20251123T174444Z
LAST-MODIFIED:20260414T165355Z
UID:10005632-1786179600-1786185000@www.ultimatephysiquefitness.com
SUMMARY:*Slow Flow Yoga
DESCRIPTION:Karen \n$8.00 members \n$12.00 Non members
URL:http://www.ultimatephysiquefitness.com/class/slow-flow-yoga/2026-08-08/
CATEGORIES:Yoga
END:VEVENT
BEGIN:VEVENT
DTSTART;TZID=America/New_York:20260809T083000
DTEND;TZID=America/New_York:20260809T093000
DTSTAMP:20260419T203041
CREATED:20251123T174307Z
LAST-MODIFIED:20260317T170226Z
UID:10005112-1786264200-1786267800@www.ultimatephysiquefitness.com
SUMMARY:*45 min. Vinyasa 15 min. Yin Yoga
DESCRIPTION:Belinda \n$8.00 Members \n$12.00 Non Members \n 
URL:http://www.ultimatephysiquefitness.com/class/45-min-vinyasa-15-min-yin-yoga/2026-08-09/
CATEGORIES:Yoga
END:VEVENT
BEGIN:VEVENT
DTSTART;TZID=America/New_York:20260809T090000
DTEND;TZID=America/New_York:20260809T100000
DTSTAMP:20260419T203041
CREATED:20251125T232250Z
LAST-MODIFIED:20260327T124200Z
UID:10005567-1786266000-1786269600@www.ultimatephysiquefitness.com
SUMMARY:Bootcamp
DESCRIPTION:Julie or Kelli
URL:http://www.ultimatephysiquefitness.com/class/bootcamp-2/2026-08-09/
END:VEVENT
BEGIN:VEVENT
DTSTART;TZID=America/New_York:20260810T083000
DTEND;TZID=America/New_York:20260810T110000
DTSTAMP:20260419T203041
CREATED:20251123T171631Z
LAST-MODIFIED:20251123T171631Z
UID:10004148-1786350600-1786359600@www.ultimatephysiquefitness.com
SUMMARY:Pickleball
DESCRIPTION:Members $3.00 \nNon Members $5.00
URL:http://www.ultimatephysiquefitness.com/class/pickleball/2026-08-10/
END:VEVENT
BEGIN:VEVENT
DTSTART;TZID=America/New_York:20260810T094500
DTEND;TZID=America/New_York:20260810T104500
DTSTAMP:20260419T203041
CREATED:20251123T171824Z
LAST-MODIFIED:20251123T171824Z
UID:10004214-1786355100-1786358700@www.ultimatephysiquefitness.com
SUMMARY:Circuit with Stations
DESCRIPTION:Karen
URL:http://www.ultimatephysiquefitness.com/class/circuit-with-stations/2026-08-10/
END:VEVENT
BEGIN:VEVENT
DTSTART;TZID=America/New_York:20260810T170000
DTEND;TZID=America/New_York:20260810T173000
DTSTAMP:20260419T203041
CREATED:20251123T171919Z
LAST-MODIFIED:20260215T170631Z
UID:10004279-1786381200-1786383000@www.ultimatephysiquefitness.com
SUMMARY:Cycling
DESCRIPTION:Karen or Jen
URL:http://www.ultimatephysiquefitness.com/class/cycling/2026-08-10/
END:VEVENT
BEGIN:VEVENT
DTSTART;TZID=America/New_York:20260810T173000
DTEND;TZID=America/New_York:20260810T180000
DTSTAMP:20260419T203041
CREATED:20251123T172031Z
LAST-MODIFIED:20260215T180229Z
UID:10004344-1786383000-1786384800@www.ultimatephysiquefitness.com
SUMMARY:Circuit
DESCRIPTION:Karen or Jen
URL:http://www.ultimatephysiquefitness.com/class/circuit/2026-08-10/
END:VEVENT
END:VCALENDAR