BEGIN:VCALENDAR
VERSION:2.0
PRODID:-//Ultimate Physique Fitness - ECPv6.15.12.2//NONSGML v1.0//EN
CALSCALE:GREGORIAN
METHOD:PUBLISH
X-WR-CALNAME:Ultimate Physique Fitness
X-ORIGINAL-URL:http://www.ultimatephysiquefitness.com
X-WR-CALDESC:Events for Ultimate Physique Fitness
REFRESH-INTERVAL;VALUE=DURATION:PT1H
X-Robots-Tag:noindex
X-PUBLISHED-TTL:PT1H
BEGIN:VTIMEZONE
TZID:America/New_York
BEGIN:DAYLIGHT
TZOFFSETFROM:-0500
TZOFFSETTO:-0400
TZNAME:EDT
DTSTART:20250309T070000
END:DAYLIGHT
BEGIN:STANDARD
TZOFFSETFROM:-0400
TZOFFSETTO:-0500
TZNAME:EST
DTSTART:20251102T060000
END:STANDARD
BEGIN:DAYLIGHT
TZOFFSETFROM:-0500
TZOFFSETTO:-0400
TZNAME:EDT
DTSTART:20260308T070000
END:DAYLIGHT
BEGIN:STANDARD
TZOFFSETFROM:-0400
TZOFFSETTO:-0500
TZNAME:EST
DTSTART:20261101T060000
END:STANDARD
BEGIN:DAYLIGHT
TZOFFSETFROM:-0500
TZOFFSETTO:-0400
TZNAME:EDT
DTSTART:20270314T070000
END:DAYLIGHT
BEGIN:STANDARD
TZOFFSETFROM:-0400
TZOFFSETTO:-0500
TZNAME:EST
DTSTART:20271107T060000
END:STANDARD
END:VTIMEZONE
BEGIN:VEVENT
DTSTART;TZID=America/New_York:20260701T180000
DTEND;TZID=America/New_York:20260701T190000
DTSTAMP:20260419T154645
CREATED:20251123T174004Z
LAST-MODIFIED:20260317T170538Z
UID:10004980-1782928800-1782932400@www.ultimatephysiquefitness.com
SUMMARY:*Gentle/Beginner Yoga
DESCRIPTION:Gail \nMembers $8.00 \nNon Members $12.00
URL:http://www.ultimatephysiquefitness.com/class/gentle-beginner-yoga/2026-07-01/
CATEGORIES:Yoga
END:VEVENT
BEGIN:VEVENT
DTSTART;TZID=America/New_York:20260702T093000
DTEND;TZID=America/New_York:20260702T110000
DTSTAMP:20260419T154645
CREATED:20251123T174119Z
LAST-MODIFIED:20260115T132102Z
UID:10005043-1782984600-1782990000@www.ultimatephysiquefitness.com
SUMMARY:*Hatha Yoga
DESCRIPTION:Karen \nMembers $8.00 \nNon Members $12.00
URL:http://www.ultimatephysiquefitness.com/class/hatha-yoga-2/2026-07-02/
CATEGORIES:Yoga
END:VEVENT
BEGIN:VEVENT
DTSTART;TZID=America/New_York:20260704T090000
DTEND;TZID=America/New_York:20260704T103000
DTSTAMP:20260419T154645
CREATED:20251123T174444Z
LAST-MODIFIED:20260414T165355Z
UID:10005627-1783155600-1783161000@www.ultimatephysiquefitness.com
SUMMARY:*Slow Flow Yoga
DESCRIPTION:Karen \n$8.00 members \n$12.00 Non members
URL:http://www.ultimatephysiquefitness.com/class/slow-flow-yoga/2026-07-04/
CATEGORIES:Yoga
END:VEVENT
BEGIN:VEVENT
DTSTART;TZID=America/New_York:20260705T083000
DTEND;TZID=America/New_York:20260705T093000
DTSTAMP:20260419T154645
CREATED:20251123T174307Z
LAST-MODIFIED:20260317T170226Z
UID:10005107-1783240200-1783243800@www.ultimatephysiquefitness.com
SUMMARY:*45 min. Vinyasa 15 min. Yin Yoga
DESCRIPTION:Belinda \n$8.00 Members \n$12.00 Non Members \n 
URL:http://www.ultimatephysiquefitness.com/class/45-min-vinyasa-15-min-yin-yoga/2026-07-05/
CATEGORIES:Yoga
END:VEVENT
BEGIN:VEVENT
DTSTART;TZID=America/New_York:20260706T183000
DTEND;TZID=America/New_York:20260706T200000
DTSTAMP:20260419T154645
CREATED:20251123T172701Z
LAST-MODIFIED:20260212T120259Z
UID:10004471-1783362600-1783368000@www.ultimatephysiquefitness.com
SUMMARY:*Hatha Yoga
DESCRIPTION:Karen \nMembers $8.00 \nNon-Members $12.00
URL:http://www.ultimatephysiquefitness.com/class/hatha-yoga/2026-07-06/
CATEGORIES:Yoga
END:VEVENT
BEGIN:VEVENT
DTSTART;TZID=America/New_York:20260707T173000
DTEND;TZID=America/New_York:20260707T183000
DTSTAMP:20260419T154645
CREATED:20251123T173116Z
LAST-MODIFIED:20260327T124012Z
UID:10004600-1783445400-1783449000@www.ultimatephysiquefitness.com
SUMMARY:*Power Vinyasa Yoga
DESCRIPTION:Belinda \nMembers $8.00 \nNon Members $12.00
URL:http://www.ultimatephysiquefitness.com/class/power-vinyasa-yoga/2026-07-07/
CATEGORIES:Yoga
END:VEVENT
BEGIN:VEVENT
DTSTART;TZID=America/New_York:20260708T180000
DTEND;TZID=America/New_York:20260708T190000
DTSTAMP:20260419T154645
CREATED:20251123T174004Z
LAST-MODIFIED:20260317T170538Z
UID:10004981-1783533600-1783537200@www.ultimatephysiquefitness.com
SUMMARY:*Gentle/Beginner Yoga
DESCRIPTION:Gail \nMembers $8.00 \nNon Members $12.00
URL:http://www.ultimatephysiquefitness.com/class/gentle-beginner-yoga/2026-07-08/
CATEGORIES:Yoga
END:VEVENT
BEGIN:VEVENT
DTSTART;TZID=America/New_York:20260709T093000
DTEND;TZID=America/New_York:20260709T110000
DTSTAMP:20260419T154645
CREATED:20251123T174119Z
LAST-MODIFIED:20260115T132102Z
UID:10005044-1783589400-1783594800@www.ultimatephysiquefitness.com
SUMMARY:*Hatha Yoga
DESCRIPTION:Karen \nMembers $8.00 \nNon Members $12.00
URL:http://www.ultimatephysiquefitness.com/class/hatha-yoga-2/2026-07-09/
CATEGORIES:Yoga
END:VEVENT
BEGIN:VEVENT
DTSTART;TZID=America/New_York:20260711T090000
DTEND;TZID=America/New_York:20260711T103000
DTSTAMP:20260419T154645
CREATED:20251123T174444Z
LAST-MODIFIED:20260414T165355Z
UID:10005628-1783760400-1783765800@www.ultimatephysiquefitness.com
SUMMARY:*Slow Flow Yoga
DESCRIPTION:Karen \n$8.00 members \n$12.00 Non members
URL:http://www.ultimatephysiquefitness.com/class/slow-flow-yoga/2026-07-11/
CATEGORIES:Yoga
END:VEVENT
BEGIN:VEVENT
DTSTART;TZID=America/New_York:20260712T083000
DTEND;TZID=America/New_York:20260712T093000
DTSTAMP:20260419T154645
CREATED:20251123T174307Z
LAST-MODIFIED:20260317T170226Z
UID:10005108-1783845000-1783848600@www.ultimatephysiquefitness.com
SUMMARY:*45 min. Vinyasa 15 min. Yin Yoga
DESCRIPTION:Belinda \n$8.00 Members \n$12.00 Non Members \n 
URL:http://www.ultimatephysiquefitness.com/class/45-min-vinyasa-15-min-yin-yoga/2026-07-12/
CATEGORIES:Yoga
END:VEVENT
BEGIN:VEVENT
DTSTART;TZID=America/New_York:20260713T183000
DTEND;TZID=America/New_York:20260713T200000
DTSTAMP:20260419T154645
CREATED:20251123T172701Z
LAST-MODIFIED:20260212T120259Z
UID:10004472-1783967400-1783972800@www.ultimatephysiquefitness.com
SUMMARY:*Hatha Yoga
DESCRIPTION:Karen \nMembers $8.00 \nNon-Members $12.00
URL:http://www.ultimatephysiquefitness.com/class/hatha-yoga/2026-07-13/
CATEGORIES:Yoga
END:VEVENT
BEGIN:VEVENT
DTSTART;TZID=America/New_York:20260714T173000
DTEND;TZID=America/New_York:20260714T183000
DTSTAMP:20260419T154645
CREATED:20251123T173116Z
LAST-MODIFIED:20260327T124012Z
UID:10004601-1784050200-1784053800@www.ultimatephysiquefitness.com
SUMMARY:*Power Vinyasa Yoga
DESCRIPTION:Belinda \nMembers $8.00 \nNon Members $12.00
URL:http://www.ultimatephysiquefitness.com/class/power-vinyasa-yoga/2026-07-14/
CATEGORIES:Yoga
END:VEVENT
BEGIN:VEVENT
DTSTART;TZID=America/New_York:20260715T180000
DTEND;TZID=America/New_York:20260715T190000
DTSTAMP:20260419T154645
CREATED:20251123T174004Z
LAST-MODIFIED:20260317T170538Z
UID:10004982-1784138400-1784142000@www.ultimatephysiquefitness.com
SUMMARY:*Gentle/Beginner Yoga
DESCRIPTION:Gail \nMembers $8.00 \nNon Members $12.00
URL:http://www.ultimatephysiquefitness.com/class/gentle-beginner-yoga/2026-07-15/
CATEGORIES:Yoga
END:VEVENT
BEGIN:VEVENT
DTSTART;TZID=America/New_York:20260716T093000
DTEND;TZID=America/New_York:20260716T110000
DTSTAMP:20260419T154645
CREATED:20251123T174119Z
LAST-MODIFIED:20260115T132102Z
UID:10005045-1784194200-1784199600@www.ultimatephysiquefitness.com
SUMMARY:*Hatha Yoga
DESCRIPTION:Karen \nMembers $8.00 \nNon Members $12.00
URL:http://www.ultimatephysiquefitness.com/class/hatha-yoga-2/2026-07-16/
CATEGORIES:Yoga
END:VEVENT
BEGIN:VEVENT
DTSTART;TZID=America/New_York:20260718T090000
DTEND;TZID=America/New_York:20260718T103000
DTSTAMP:20260419T154645
CREATED:20251123T174444Z
LAST-MODIFIED:20260414T165355Z
UID:10005629-1784365200-1784370600@www.ultimatephysiquefitness.com
SUMMARY:*Slow Flow Yoga
DESCRIPTION:Karen \n$8.00 members \n$12.00 Non members
URL:http://www.ultimatephysiquefitness.com/class/slow-flow-yoga/2026-07-18/
CATEGORIES:Yoga
END:VEVENT
BEGIN:VEVENT
DTSTART;TZID=America/New_York:20260719T083000
DTEND;TZID=America/New_York:20260719T093000
DTSTAMP:20260419T154645
CREATED:20251123T174307Z
LAST-MODIFIED:20260317T170226Z
UID:10005109-1784449800-1784453400@www.ultimatephysiquefitness.com
SUMMARY:*45 min. Vinyasa 15 min. Yin Yoga
DESCRIPTION:Belinda \n$8.00 Members \n$12.00 Non Members \n 
URL:http://www.ultimatephysiquefitness.com/class/45-min-vinyasa-15-min-yin-yoga/2026-07-19/
CATEGORIES:Yoga
END:VEVENT
BEGIN:VEVENT
DTSTART;TZID=America/New_York:20260720T183000
DTEND;TZID=America/New_York:20260720T200000
DTSTAMP:20260419T154645
CREATED:20251123T172701Z
LAST-MODIFIED:20260212T120259Z
UID:10004473-1784572200-1784577600@www.ultimatephysiquefitness.com
SUMMARY:*Hatha Yoga
DESCRIPTION:Karen \nMembers $8.00 \nNon-Members $12.00
URL:http://www.ultimatephysiquefitness.com/class/hatha-yoga/2026-07-20/
CATEGORIES:Yoga
END:VEVENT
BEGIN:VEVENT
DTSTART;TZID=America/New_York:20260721T173000
DTEND;TZID=America/New_York:20260721T183000
DTSTAMP:20260419T154645
CREATED:20251123T173116Z
LAST-MODIFIED:20260327T124012Z
UID:10004602-1784655000-1784658600@www.ultimatephysiquefitness.com
SUMMARY:*Power Vinyasa Yoga
DESCRIPTION:Belinda \nMembers $8.00 \nNon Members $12.00
URL:http://www.ultimatephysiquefitness.com/class/power-vinyasa-yoga/2026-07-21/
CATEGORIES:Yoga
END:VEVENT
BEGIN:VEVENT
DTSTART;TZID=America/New_York:20260722T180000
DTEND;TZID=America/New_York:20260722T190000
DTSTAMP:20260419T154645
CREATED:20251123T174004Z
LAST-MODIFIED:20260317T170538Z
UID:10004983-1784743200-1784746800@www.ultimatephysiquefitness.com
SUMMARY:*Gentle/Beginner Yoga
DESCRIPTION:Gail \nMembers $8.00 \nNon Members $12.00
URL:http://www.ultimatephysiquefitness.com/class/gentle-beginner-yoga/2026-07-22/
CATEGORIES:Yoga
END:VEVENT
BEGIN:VEVENT
DTSTART;TZID=America/New_York:20260723T093000
DTEND;TZID=America/New_York:20260723T110000
DTSTAMP:20260419T154645
CREATED:20251123T174119Z
LAST-MODIFIED:20260115T132102Z
UID:10005046-1784799000-1784804400@www.ultimatephysiquefitness.com
SUMMARY:*Hatha Yoga
DESCRIPTION:Karen \nMembers $8.00 \nNon Members $12.00
URL:http://www.ultimatephysiquefitness.com/class/hatha-yoga-2/2026-07-23/
CATEGORIES:Yoga
END:VEVENT
BEGIN:VEVENT
DTSTART;TZID=America/New_York:20260725T090000
DTEND;TZID=America/New_York:20260725T103000
DTSTAMP:20260419T154645
CREATED:20251123T174444Z
LAST-MODIFIED:20260414T165355Z
UID:10005630-1784970000-1784975400@www.ultimatephysiquefitness.com
SUMMARY:*Slow Flow Yoga
DESCRIPTION:Karen \n$8.00 members \n$12.00 Non members
URL:http://www.ultimatephysiquefitness.com/class/slow-flow-yoga/2026-07-25/
CATEGORIES:Yoga
END:VEVENT
BEGIN:VEVENT
DTSTART;TZID=America/New_York:20260726T083000
DTEND;TZID=America/New_York:20260726T093000
DTSTAMP:20260419T154645
CREATED:20251123T174307Z
LAST-MODIFIED:20260317T170226Z
UID:10005110-1785054600-1785058200@www.ultimatephysiquefitness.com
SUMMARY:*45 min. Vinyasa 15 min. Yin Yoga
DESCRIPTION:Belinda \n$8.00 Members \n$12.00 Non Members \n 
URL:http://www.ultimatephysiquefitness.com/class/45-min-vinyasa-15-min-yin-yoga/2026-07-26/
CATEGORIES:Yoga
END:VEVENT
BEGIN:VEVENT
DTSTART;TZID=America/New_York:20260727T183000
DTEND;TZID=America/New_York:20260727T200000
DTSTAMP:20260419T154645
CREATED:20251123T172701Z
LAST-MODIFIED:20260212T120259Z
UID:10004474-1785177000-1785182400@www.ultimatephysiquefitness.com
SUMMARY:*Hatha Yoga
DESCRIPTION:Karen \nMembers $8.00 \nNon-Members $12.00
URL:http://www.ultimatephysiquefitness.com/class/hatha-yoga/2026-07-27/
CATEGORIES:Yoga
END:VEVENT
BEGIN:VEVENT
DTSTART;TZID=America/New_York:20260728T173000
DTEND;TZID=America/New_York:20260728T183000
DTSTAMP:20260419T154645
CREATED:20251123T173116Z
LAST-MODIFIED:20260327T124012Z
UID:10004603-1785259800-1785263400@www.ultimatephysiquefitness.com
SUMMARY:*Power Vinyasa Yoga
DESCRIPTION:Belinda \nMembers $8.00 \nNon Members $12.00
URL:http://www.ultimatephysiquefitness.com/class/power-vinyasa-yoga/2026-07-28/
CATEGORIES:Yoga
END:VEVENT
BEGIN:VEVENT
DTSTART;TZID=America/New_York:20260729T180000
DTEND;TZID=America/New_York:20260729T190000
DTSTAMP:20260419T154645
CREATED:20251123T174004Z
LAST-MODIFIED:20260317T170538Z
UID:10004984-1785348000-1785351600@www.ultimatephysiquefitness.com
SUMMARY:*Gentle/Beginner Yoga
DESCRIPTION:Gail \nMembers $8.00 \nNon Members $12.00
URL:http://www.ultimatephysiquefitness.com/class/gentle-beginner-yoga/2026-07-29/
CATEGORIES:Yoga
END:VEVENT
BEGIN:VEVENT
DTSTART;TZID=America/New_York:20260730T093000
DTEND;TZID=America/New_York:20260730T110000
DTSTAMP:20260419T154645
CREATED:20251123T174119Z
LAST-MODIFIED:20260115T132102Z
UID:10005047-1785403800-1785409200@www.ultimatephysiquefitness.com
SUMMARY:*Hatha Yoga
DESCRIPTION:Karen \nMembers $8.00 \nNon Members $12.00
URL:http://www.ultimatephysiquefitness.com/class/hatha-yoga-2/2026-07-30/
CATEGORIES:Yoga
END:VEVENT
END:VCALENDAR