BEGIN:VCALENDAR
VERSION:2.0
PRODID:-//Ultimate Physique Fitness - ECPv6.15.12.2//NONSGML v1.0//EN
CALSCALE:GREGORIAN
METHOD:PUBLISH
X-WR-CALNAME:Ultimate Physique Fitness
X-ORIGINAL-URL:http://www.ultimatephysiquefitness.com
X-WR-CALDESC:Events for Ultimate Physique Fitness
REFRESH-INTERVAL;VALUE=DURATION:PT1H
X-Robots-Tag:noindex
X-PUBLISHED-TTL:PT1H
BEGIN:VTIMEZONE
TZID:America/New_York
BEGIN:DAYLIGHT
TZOFFSETFROM:-0500
TZOFFSETTO:-0400
TZNAME:EDT
DTSTART:20250309T070000
END:DAYLIGHT
BEGIN:STANDARD
TZOFFSETFROM:-0400
TZOFFSETTO:-0500
TZNAME:EST
DTSTART:20251102T060000
END:STANDARD
BEGIN:DAYLIGHT
TZOFFSETFROM:-0500
TZOFFSETTO:-0400
TZNAME:EDT
DTSTART:20260308T070000
END:DAYLIGHT
BEGIN:STANDARD
TZOFFSETFROM:-0400
TZOFFSETTO:-0500
TZNAME:EST
DTSTART:20261101T060000
END:STANDARD
BEGIN:DAYLIGHT
TZOFFSETFROM:-0500
TZOFFSETTO:-0400
TZNAME:EDT
DTSTART:20270314T070000
END:DAYLIGHT
BEGIN:STANDARD
TZOFFSETFROM:-0400
TZOFFSETTO:-0500
TZNAME:EST
DTSTART:20271107T060000
END:STANDARD
END:VTIMEZONE
BEGIN:VEVENT
DTSTART;TZID=America/New_York:20260119T083000
DTEND;TZID=America/New_York:20260119T110000
DTSTAMP:20260419T174916
CREATED:20251123T171631Z
LAST-MODIFIED:20251123T171631Z
UID:10004119-1768811400-1768820400@www.ultimatephysiquefitness.com
SUMMARY:Pickleball
DESCRIPTION:Members $3.00 \nNon Members $5.00
URL:http://www.ultimatephysiquefitness.com/class/pickleball/2026-01-19/
END:VEVENT
BEGIN:VEVENT
DTSTART;TZID=America/New_York:20260119T094500
DTEND;TZID=America/New_York:20260119T104500
DTSTAMP:20260419T174916
CREATED:20251123T171824Z
LAST-MODIFIED:20251123T171824Z
UID:10004185-1768815900-1768819500@www.ultimatephysiquefitness.com
SUMMARY:Circuit with Stations
DESCRIPTION:Karen
URL:http://www.ultimatephysiquefitness.com/class/circuit-with-stations/2026-01-19/
END:VEVENT
BEGIN:VEVENT
DTSTART;TZID=America/New_York:20260119T170000
DTEND;TZID=America/New_York:20260119T173000
DTSTAMP:20260419T174916
CREATED:20251123T171919Z
LAST-MODIFIED:20260215T170631Z
UID:10004250-1768842000-1768843800@www.ultimatephysiquefitness.com
SUMMARY:Cycling
DESCRIPTION:Karen or Jen
URL:http://www.ultimatephysiquefitness.com/class/cycling/2026-01-19/
END:VEVENT
BEGIN:VEVENT
DTSTART;TZID=America/New_York:20260119T173000
DTEND;TZID=America/New_York:20260119T180000
DTSTAMP:20260419T174916
CREATED:20251123T172031Z
LAST-MODIFIED:20260215T180229Z
UID:10004315-1768843800-1768845600@www.ultimatephysiquefitness.com
SUMMARY:Circuit
DESCRIPTION:Karen or Jen
URL:http://www.ultimatephysiquefitness.com/class/circuit/2026-01-19/
END:VEVENT
BEGIN:VEVENT
DTSTART;TZID=America/New_York:20260119T180000
DTEND;TZID=America/New_York:20260119T184500
DTSTAMP:20260419T174916
CREATED:20251123T172554Z
LAST-MODIFIED:20251123T172554Z
UID:10004381-1768845600-1768848300@www.ultimatephysiquefitness.com
SUMMARY:Cycling
DESCRIPTION:Ian
URL:http://www.ultimatephysiquefitness.com/class/cycling-2/2026-01-19/
END:VEVENT
BEGIN:VEVENT
DTSTART;TZID=America/New_York:20260119T183000
DTEND;TZID=America/New_York:20260119T200000
DTSTAMP:20260419T174916
CREATED:20251123T172701Z
LAST-MODIFIED:20260212T120259Z
UID:10004447-1768847400-1768852800@www.ultimatephysiquefitness.com
SUMMARY:*Hatha Yoga
DESCRIPTION:Karen \nMembers $8.00 \nNon-Members $12.00
URL:http://www.ultimatephysiquefitness.com/class/hatha-yoga/2026-01-19/
CATEGORIES:Yoga
END:VEVENT
BEGIN:VEVENT
DTSTART;TZID=America/New_York:20260120T100000
DTEND;TZID=America/New_York:20260120T110000
DTSTAMP:20260419T174916
CREATED:20251123T172938Z
LAST-MODIFIED:20260317T140601Z
UID:10004512-1768903200-1768906800@www.ultimatephysiquefitness.com
SUMMARY:Low Impact Fitness
DESCRIPTION:Marianne
URL:http://www.ultimatephysiquefitness.com/class/low-impact-fitness/2026-01-20/
END:VEVENT
BEGIN:VEVENT
DTSTART;TZID=America/New_York:20260120T173000
DTEND;TZID=America/New_York:20260120T183000
DTSTAMP:20260419T174916
CREATED:20251123T173116Z
LAST-MODIFIED:20260327T124012Z
UID:10004576-1768930200-1768933800@www.ultimatephysiquefitness.com
SUMMARY:*Power Vinyasa Yoga
DESCRIPTION:Belinda \nMembers $8.00 \nNon Members $12.00
URL:http://www.ultimatephysiquefitness.com/class/power-vinyasa-yoga/2026-01-20/
CATEGORIES:Yoga
END:VEVENT
BEGIN:VEVENT
DTSTART;TZID=America/New_York:20260120T180000
DTEND;TZID=America/New_York:20260120T190000
DTSTAMP:20260419T174916
CREATED:20251123T173205Z
LAST-MODIFIED:20251123T173205Z
UID:10004641-1768932000-1768935600@www.ultimatephysiquefitness.com
SUMMARY:Bootcamp
DESCRIPTION:
URL:http://www.ultimatephysiquefitness.com/class/bootcamp/2026-01-20/
END:VEVENT
BEGIN:VEVENT
DTSTART;TZID=America/New_York:20260121T083000
DTEND;TZID=America/New_York:20260121T110000
DTSTAMP:20260419T174916
CREATED:20251123T173410Z
LAST-MODIFIED:20251123T173410Z
UID:10004707-1768984200-1768993200@www.ultimatephysiquefitness.com
SUMMARY:Pickleball
DESCRIPTION:Members $3.00 \nNon Members $5.00
URL:http://www.ultimatephysiquefitness.com/class/pickleball-2/2026-01-21/
END:VEVENT
BEGIN:VEVENT
DTSTART;TZID=America/New_York:20260121T094500
DTEND;TZID=America/New_York:20260121T104500
DTSTAMP:20260419T174916
CREATED:20251123T173544Z
LAST-MODIFIED:20251222T162746Z
UID:10004770-1768988700-1768992300@www.ultimatephysiquefitness.com
SUMMARY:Cardio & Strength
DESCRIPTION:Karen
URL:http://www.ultimatephysiquefitness.com/class/cardio-strength/2026-01-21/
END:VEVENT
BEGIN:VEVENT
DTSTART;TZID=America/New_York:20260121T170000
DTEND;TZID=America/New_York:20260121T173000
DTSTAMP:20260419T174916
CREATED:20251123T173711Z
LAST-MODIFIED:20260329T132953Z
UID:10005675-1769014800-1769016600@www.ultimatephysiquefitness.com
SUMMARY:Cycling
DESCRIPTION:Julie
URL:http://www.ultimatephysiquefitness.com/class/cycling-3/2026-01-21/
END:VEVENT
BEGIN:VEVENT
DTSTART;TZID=America/New_York:20260121T180000
DTEND;TZID=America/New_York:20260121T183000
DTSTAMP:20260419T174916
CREATED:20251123T173824Z
LAST-MODIFIED:20251123T173824Z
UID:10004895-1769018400-1769020200@www.ultimatephysiquefitness.com
SUMMARY:Circuit
DESCRIPTION:Julie
URL:http://www.ultimatephysiquefitness.com/class/circuit-2/2026-01-21/
END:VEVENT
BEGIN:VEVENT
DTSTART;TZID=America/New_York:20260121T180000
DTEND;TZID=America/New_York:20260121T190000
DTSTAMP:20260419T174916
CREATED:20251123T174004Z
LAST-MODIFIED:20260317T170538Z
UID:10004957-1769018400-1769022000@www.ultimatephysiquefitness.com
SUMMARY:*Gentle/Beginner Yoga
DESCRIPTION:Gail \nMembers $8.00 \nNon Members $12.00
URL:http://www.ultimatephysiquefitness.com/class/gentle-beginner-yoga/2026-01-21/
CATEGORIES:Yoga
END:VEVENT
BEGIN:VEVENT
DTSTART;TZID=America/New_York:20260122T093000
DTEND;TZID=America/New_York:20260122T110000
DTSTAMP:20260419T174916
CREATED:20251123T174119Z
LAST-MODIFIED:20260115T132102Z
UID:10005020-1769074200-1769079600@www.ultimatephysiquefitness.com
SUMMARY:*Hatha Yoga
DESCRIPTION:Karen \nMembers $8.00 \nNon Members $12.00
URL:http://www.ultimatephysiquefitness.com/class/hatha-yoga-2/2026-01-22/
CATEGORIES:Yoga
END:VEVENT
BEGIN:VEVENT
DTSTART;TZID=America/New_York:20260123T083000
DTEND;TZID=America/New_York:20260123T110000
DTSTAMP:20260419T174916
CREATED:20251123T174834Z
LAST-MODIFIED:20251123T174834Z
UID:10005282-1769157000-1769166000@www.ultimatephysiquefitness.com
SUMMARY:Pickleball
DESCRIPTION:No charge on Friday’s for Members \nNon Members $5.00
URL:http://www.ultimatephysiquefitness.com/class/pickleball-3/2026-01-23/
END:VEVENT
BEGIN:VEVENT
DTSTART;TZID=America/New_York:20260124T081500
DTEND;TZID=America/New_York:20260124T090000
DTSTAMP:20260419T174916
CREATED:20251123T174920Z
LAST-MODIFIED:20251123T174920Z
UID:10005347-1769242500-1769245200@www.ultimatephysiquefitness.com
SUMMARY:Cycling
DESCRIPTION:
URL:http://www.ultimatephysiquefitness.com/class/cycling-4/2026-01-24/
END:VEVENT
BEGIN:VEVENT
DTSTART;TZID=America/New_York:20260124T090000
DTEND;TZID=America/New_York:20260124T100000
DTSTAMP:20260419T174916
CREATED:20251123T174526Z
LAST-MODIFIED:20251123T174526Z
UID:10005213-1769245200-1769248800@www.ultimatephysiquefitness.com
SUMMARY:Saturday Surprise
DESCRIPTION:
URL:http://www.ultimatephysiquefitness.com/class/saturday-surprise/2026-01-24/
END:VEVENT
BEGIN:VEVENT
DTSTART;TZID=America/New_York:20260124T090000
DTEND;TZID=America/New_York:20260124T103000
DTSTAMP:20260419T174916
CREATED:20251123T174444Z
LAST-MODIFIED:20260414T165355Z
UID:10005604-1769245200-1769250600@www.ultimatephysiquefitness.com
SUMMARY:*Slow Flow Yoga
DESCRIPTION:Karen \n$8.00 members \n$12.00 Non members
URL:http://www.ultimatephysiquefitness.com/class/slow-flow-yoga/2026-01-24/
CATEGORIES:Yoga
END:VEVENT
BEGIN:VEVENT
DTSTART;TZID=America/New_York:20260125T083000
DTEND;TZID=America/New_York:20260125T093000
DTSTAMP:20260419T174916
CREATED:20251123T174307Z
LAST-MODIFIED:20260317T170226Z
UID:10005084-1769329800-1769333400@www.ultimatephysiquefitness.com
SUMMARY:*45 min. Vinyasa 15 min. Yin Yoga
DESCRIPTION:Belinda \n$8.00 Members \n$12.00 Non Members \n 
URL:http://www.ultimatephysiquefitness.com/class/45-min-vinyasa-15-min-yin-yoga/2026-01-25/
CATEGORIES:Yoga
END:VEVENT
BEGIN:VEVENT
DTSTART;TZID=America/New_York:20260125T090000
DTEND;TZID=America/New_York:20260125T100000
DTSTAMP:20260419T174916
CREATED:20251125T232250Z
LAST-MODIFIED:20260327T124200Z
UID:10005539-1769331600-1769335200@www.ultimatephysiquefitness.com
SUMMARY:Bootcamp
DESCRIPTION:Julie or Kelli
URL:http://www.ultimatephysiquefitness.com/class/bootcamp-2/2026-01-25/
END:VEVENT
BEGIN:VEVENT
DTSTART;TZID=America/New_York:20260126T083000
DTEND;TZID=America/New_York:20260126T110000
DTSTAMP:20260419T174916
CREATED:20251123T171631Z
LAST-MODIFIED:20251123T171631Z
UID:10004120-1769416200-1769425200@www.ultimatephysiquefitness.com
SUMMARY:Pickleball
DESCRIPTION:Members $3.00 \nNon Members $5.00
URL:http://www.ultimatephysiquefitness.com/class/pickleball/2026-01-26/
END:VEVENT
BEGIN:VEVENT
DTSTART;TZID=America/New_York:20260126T094500
DTEND;TZID=America/New_York:20260126T104500
DTSTAMP:20260419T174916
CREATED:20251123T171824Z
LAST-MODIFIED:20251123T171824Z
UID:10004186-1769420700-1769424300@www.ultimatephysiquefitness.com
SUMMARY:Circuit with Stations
DESCRIPTION:Karen
URL:http://www.ultimatephysiquefitness.com/class/circuit-with-stations/2026-01-26/
END:VEVENT
BEGIN:VEVENT
DTSTART;TZID=America/New_York:20260126T170000
DTEND;TZID=America/New_York:20260126T173000
DTSTAMP:20260419T174916
CREATED:20251123T171919Z
LAST-MODIFIED:20260215T170631Z
UID:10004251-1769446800-1769448600@www.ultimatephysiquefitness.com
SUMMARY:Cycling
DESCRIPTION:Karen or Jen
URL:http://www.ultimatephysiquefitness.com/class/cycling/2026-01-26/
END:VEVENT
BEGIN:VEVENT
DTSTART;TZID=America/New_York:20260126T173000
DTEND;TZID=America/New_York:20260126T180000
DTSTAMP:20260419T174916
CREATED:20251123T172031Z
LAST-MODIFIED:20260215T180229Z
UID:10004316-1769448600-1769450400@www.ultimatephysiquefitness.com
SUMMARY:Circuit
DESCRIPTION:Karen or Jen
URL:http://www.ultimatephysiquefitness.com/class/circuit/2026-01-26/
END:VEVENT
BEGIN:VEVENT
DTSTART;TZID=America/New_York:20260126T180000
DTEND;TZID=America/New_York:20260126T184500
DTSTAMP:20260419T174916
CREATED:20251123T172554Z
LAST-MODIFIED:20251123T172554Z
UID:10004382-1769450400-1769453100@www.ultimatephysiquefitness.com
SUMMARY:Cycling
DESCRIPTION:Ian
URL:http://www.ultimatephysiquefitness.com/class/cycling-2/2026-01-26/
END:VEVENT
BEGIN:VEVENT
DTSTART;TZID=America/New_York:20260126T183000
DTEND;TZID=America/New_York:20260126T200000
DTSTAMP:20260419T174916
CREATED:20251123T172701Z
LAST-MODIFIED:20260212T120259Z
UID:10004448-1769452200-1769457600@www.ultimatephysiquefitness.com
SUMMARY:*Hatha Yoga
DESCRIPTION:Karen \nMembers $8.00 \nNon-Members $12.00
URL:http://www.ultimatephysiquefitness.com/class/hatha-yoga/2026-01-26/
CATEGORIES:Yoga
END:VEVENT
BEGIN:VEVENT
DTSTART;TZID=America/New_York:20260127T100000
DTEND;TZID=America/New_York:20260127T110000
DTSTAMP:20260419T174916
CREATED:20251123T172938Z
LAST-MODIFIED:20260317T140601Z
UID:10004513-1769508000-1769511600@www.ultimatephysiquefitness.com
SUMMARY:Low Impact Fitness
DESCRIPTION:Marianne
URL:http://www.ultimatephysiquefitness.com/class/low-impact-fitness/2026-01-27/
END:VEVENT
BEGIN:VEVENT
DTSTART;TZID=America/New_York:20260127T173000
DTEND;TZID=America/New_York:20260127T183000
DTSTAMP:20260419T174916
CREATED:20251123T173116Z
LAST-MODIFIED:20260327T124012Z
UID:10004577-1769535000-1769538600@www.ultimatephysiquefitness.com
SUMMARY:*Power Vinyasa Yoga
DESCRIPTION:Belinda \nMembers $8.00 \nNon Members $12.00
URL:http://www.ultimatephysiquefitness.com/class/power-vinyasa-yoga/2026-01-27/
CATEGORIES:Yoga
END:VEVENT
BEGIN:VEVENT
DTSTART;TZID=America/New_York:20260127T180000
DTEND;TZID=America/New_York:20260127T190000
DTSTAMP:20260419T174916
CREATED:20251123T173205Z
LAST-MODIFIED:20251123T173205Z
UID:10004642-1769536800-1769540400@www.ultimatephysiquefitness.com
SUMMARY:Bootcamp
DESCRIPTION:
URL:http://www.ultimatephysiquefitness.com/class/bootcamp/2026-01-27/
END:VEVENT
END:VCALENDAR