BEGIN:VCALENDAR
VERSION:2.0
PRODID:-//Ultimate Physique Fitness - ECPv6.15.12.2//NONSGML v1.0//EN
CALSCALE:GREGORIAN
METHOD:PUBLISH
X-WR-CALNAME:Ultimate Physique Fitness
X-ORIGINAL-URL:http://www.ultimatephysiquefitness.com
X-WR-CALDESC:Events for Ultimate Physique Fitness
REFRESH-INTERVAL;VALUE=DURATION:PT1H
X-Robots-Tag:noindex
X-PUBLISHED-TTL:PT1H
BEGIN:VTIMEZONE
TZID:America/New_York
BEGIN:DAYLIGHT
TZOFFSETFROM:-0500
TZOFFSETTO:-0400
TZNAME:EDT
DTSTART:20260308T070000
END:DAYLIGHT
BEGIN:STANDARD
TZOFFSETFROM:-0400
TZOFFSETTO:-0500
TZNAME:EST
DTSTART:20261101T060000
END:STANDARD
BEGIN:DAYLIGHT
TZOFFSETFROM:-0500
TZOFFSETTO:-0400
TZNAME:EDT
DTSTART:20270314T070000
END:DAYLIGHT
BEGIN:STANDARD
TZOFFSETFROM:-0400
TZOFFSETTO:-0500
TZNAME:EST
DTSTART:20271107T060000
END:STANDARD
BEGIN:DAYLIGHT
TZOFFSETFROM:-0500
TZOFFSETTO:-0400
TZNAME:EDT
DTSTART:20280312T070000
END:DAYLIGHT
BEGIN:STANDARD
TZOFFSETFROM:-0400
TZOFFSETTO:-0500
TZNAME:EST
DTSTART:20281105T060000
END:STANDARD
END:VTIMEZONE
BEGIN:VEVENT
DTSTART;TZID=America/New_York:20270102T090000
DTEND;TZID=America/New_York:20270102T103000
DTSTAMP:20260420T031230
CREATED:20251123T174444Z
LAST-MODIFIED:20260414T165355Z
UID:10005653-1798880400-1798885800@www.ultimatephysiquefitness.com
SUMMARY:*Slow Flow Yoga
DESCRIPTION:Karen \n$8.00 members \n$12.00 Non members
URL:http://www.ultimatephysiquefitness.com/class/slow-flow-yoga/2027-01-02/
CATEGORIES:Yoga
END:VEVENT
BEGIN:VEVENT
DTSTART;TZID=America/New_York:20270103T083000
DTEND;TZID=America/New_York:20270103T093000
DTSTAMP:20260420T031230
CREATED:20251123T174307Z
LAST-MODIFIED:20260317T170226Z
UID:10005133-1798965000-1798968600@www.ultimatephysiquefitness.com
SUMMARY:*45 min. Vinyasa 15 min. Yin Yoga
DESCRIPTION:Belinda \n$8.00 Members \n$12.00 Non Members \n 
URL:http://www.ultimatephysiquefitness.com/class/45-min-vinyasa-15-min-yin-yoga/2027-01-03/
CATEGORIES:Yoga
END:VEVENT
BEGIN:VEVENT
DTSTART;TZID=America/New_York:20270104T183000
DTEND;TZID=America/New_York:20270104T200000
DTSTAMP:20260420T031230
CREATED:20251123T172701Z
LAST-MODIFIED:20260212T120259Z
UID:10004497-1799087400-1799092800@www.ultimatephysiquefitness.com
SUMMARY:*Hatha Yoga
DESCRIPTION:Karen \nMembers $8.00 \nNon-Members $12.00
URL:http://www.ultimatephysiquefitness.com/class/hatha-yoga/2027-01-04/
CATEGORIES:Yoga
END:VEVENT
BEGIN:VEVENT
DTSTART;TZID=America/New_York:20270105T173000
DTEND;TZID=America/New_York:20270105T183000
DTSTAMP:20260420T031230
CREATED:20251123T173116Z
LAST-MODIFIED:20260327T124012Z
UID:10004626-1799170200-1799173800@www.ultimatephysiquefitness.com
SUMMARY:*Power Vinyasa Yoga
DESCRIPTION:Belinda \nMembers $8.00 \nNon Members $12.00
URL:http://www.ultimatephysiquefitness.com/class/power-vinyasa-yoga/2027-01-05/
CATEGORIES:Yoga
END:VEVENT
BEGIN:VEVENT
DTSTART;TZID=America/New_York:20270106T180000
DTEND;TZID=America/New_York:20270106T190000
DTSTAMP:20260420T031230
CREATED:20251123T174004Z
LAST-MODIFIED:20260317T170538Z
UID:10005007-1799258400-1799262000@www.ultimatephysiquefitness.com
SUMMARY:*Gentle/Beginner Yoga
DESCRIPTION:Gail \nMembers $8.00 \nNon Members $12.00
URL:http://www.ultimatephysiquefitness.com/class/gentle-beginner-yoga/2027-01-06/
CATEGORIES:Yoga
END:VEVENT
BEGIN:VEVENT
DTSTART;TZID=America/New_York:20270107T093000
DTEND;TZID=America/New_York:20270107T110000
DTSTAMP:20260420T031230
CREATED:20251123T174119Z
LAST-MODIFIED:20260115T132102Z
UID:10005070-1799314200-1799319600@www.ultimatephysiquefitness.com
SUMMARY:*Hatha Yoga
DESCRIPTION:Karen \nMembers $8.00 \nNon Members $12.00
URL:http://www.ultimatephysiquefitness.com/class/hatha-yoga-2/2027-01-07/
CATEGORIES:Yoga
END:VEVENT
BEGIN:VEVENT
DTSTART;TZID=America/New_York:20270109T090000
DTEND;TZID=America/New_York:20270109T103000
DTSTAMP:20260420T031230
CREATED:20251123T174444Z
LAST-MODIFIED:20260414T165355Z
UID:10005654-1799485200-1799490600@www.ultimatephysiquefitness.com
SUMMARY:*Slow Flow Yoga
DESCRIPTION:Karen \n$8.00 members \n$12.00 Non members
URL:http://www.ultimatephysiquefitness.com/class/slow-flow-yoga/2027-01-09/
CATEGORIES:Yoga
END:VEVENT
BEGIN:VEVENT
DTSTART;TZID=America/New_York:20270110T083000
DTEND;TZID=America/New_York:20270110T093000
DTSTAMP:20260420T031230
CREATED:20251123T174307Z
LAST-MODIFIED:20260317T170226Z
UID:10005134-1799569800-1799573400@www.ultimatephysiquefitness.com
SUMMARY:*45 min. Vinyasa 15 min. Yin Yoga
DESCRIPTION:Belinda \n$8.00 Members \n$12.00 Non Members \n 
URL:http://www.ultimatephysiquefitness.com/class/45-min-vinyasa-15-min-yin-yoga/2027-01-10/
CATEGORIES:Yoga
END:VEVENT
BEGIN:VEVENT
DTSTART;TZID=America/New_York:20270111T183000
DTEND;TZID=America/New_York:20270111T200000
DTSTAMP:20260420T031230
CREATED:20251123T172701Z
LAST-MODIFIED:20260212T120259Z
UID:10004498-1799692200-1799697600@www.ultimatephysiquefitness.com
SUMMARY:*Hatha Yoga
DESCRIPTION:Karen \nMembers $8.00 \nNon-Members $12.00
URL:http://www.ultimatephysiquefitness.com/class/hatha-yoga/2027-01-11/
CATEGORIES:Yoga
END:VEVENT
BEGIN:VEVENT
DTSTART;TZID=America/New_York:20270112T173000
DTEND;TZID=America/New_York:20270112T183000
DTSTAMP:20260420T031230
CREATED:20251123T173116Z
LAST-MODIFIED:20260327T124012Z
UID:10004627-1799775000-1799778600@www.ultimatephysiquefitness.com
SUMMARY:*Power Vinyasa Yoga
DESCRIPTION:Belinda \nMembers $8.00 \nNon Members $12.00
URL:http://www.ultimatephysiquefitness.com/class/power-vinyasa-yoga/2027-01-12/
CATEGORIES:Yoga
END:VEVENT
BEGIN:VEVENT
DTSTART;TZID=America/New_York:20270113T180000
DTEND;TZID=America/New_York:20270113T190000
DTSTAMP:20260420T031230
CREATED:20251123T174004Z
LAST-MODIFIED:20260317T170538Z
UID:10005008-1799863200-1799866800@www.ultimatephysiquefitness.com
SUMMARY:*Gentle/Beginner Yoga
DESCRIPTION:Gail \nMembers $8.00 \nNon Members $12.00
URL:http://www.ultimatephysiquefitness.com/class/gentle-beginner-yoga/2027-01-13/
CATEGORIES:Yoga
END:VEVENT
BEGIN:VEVENT
DTSTART;TZID=America/New_York:20270114T093000
DTEND;TZID=America/New_York:20270114T110000
DTSTAMP:20260420T031230
CREATED:20251123T174119Z
LAST-MODIFIED:20260115T132102Z
UID:10005071-1799919000-1799924400@www.ultimatephysiquefitness.com
SUMMARY:*Hatha Yoga
DESCRIPTION:Karen \nMembers $8.00 \nNon Members $12.00
URL:http://www.ultimatephysiquefitness.com/class/hatha-yoga-2/2027-01-14/
CATEGORIES:Yoga
END:VEVENT
BEGIN:VEVENT
DTSTART;TZID=America/New_York:20270116T090000
DTEND;TZID=America/New_York:20270116T103000
DTSTAMP:20260420T031230
CREATED:20251123T174444Z
LAST-MODIFIED:20260414T165355Z
UID:10005655-1800090000-1800095400@www.ultimatephysiquefitness.com
SUMMARY:*Slow Flow Yoga
DESCRIPTION:Karen \n$8.00 members \n$12.00 Non members
URL:http://www.ultimatephysiquefitness.com/class/slow-flow-yoga/2027-01-16/
CATEGORIES:Yoga
END:VEVENT
BEGIN:VEVENT
DTSTART;TZID=America/New_York:20270117T083000
DTEND;TZID=America/New_York:20270117T093000
DTSTAMP:20260420T031230
CREATED:20251123T174307Z
LAST-MODIFIED:20260317T170226Z
UID:10005135-1800174600-1800178200@www.ultimatephysiquefitness.com
SUMMARY:*45 min. Vinyasa 15 min. Yin Yoga
DESCRIPTION:Belinda \n$8.00 Members \n$12.00 Non Members \n 
URL:http://www.ultimatephysiquefitness.com/class/45-min-vinyasa-15-min-yin-yoga/2027-01-17/
CATEGORIES:Yoga
END:VEVENT
BEGIN:VEVENT
DTSTART;TZID=America/New_York:20270118T183000
DTEND;TZID=America/New_York:20270118T200000
DTSTAMP:20260420T031230
CREATED:20251123T172701Z
LAST-MODIFIED:20260212T120259Z
UID:10004499-1800297000-1800302400@www.ultimatephysiquefitness.com
SUMMARY:*Hatha Yoga
DESCRIPTION:Karen \nMembers $8.00 \nNon-Members $12.00
URL:http://www.ultimatephysiquefitness.com/class/hatha-yoga/2027-01-18/
CATEGORIES:Yoga
END:VEVENT
BEGIN:VEVENT
DTSTART;TZID=America/New_York:20270119T173000
DTEND;TZID=America/New_York:20270119T183000
DTSTAMP:20260420T031230
CREATED:20251123T173116Z
LAST-MODIFIED:20260327T124012Z
UID:10004628-1800379800-1800383400@www.ultimatephysiquefitness.com
SUMMARY:*Power Vinyasa Yoga
DESCRIPTION:Belinda \nMembers $8.00 \nNon Members $12.00
URL:http://www.ultimatephysiquefitness.com/class/power-vinyasa-yoga/2027-01-19/
CATEGORIES:Yoga
END:VEVENT
BEGIN:VEVENT
DTSTART;TZID=America/New_York:20270120T180000
DTEND;TZID=America/New_York:20270120T190000
DTSTAMP:20260420T031230
CREATED:20251123T174004Z
LAST-MODIFIED:20260317T170538Z
UID:10005009-1800468000-1800471600@www.ultimatephysiquefitness.com
SUMMARY:*Gentle/Beginner Yoga
DESCRIPTION:Gail \nMembers $8.00 \nNon Members $12.00
URL:http://www.ultimatephysiquefitness.com/class/gentle-beginner-yoga/2027-01-20/
CATEGORIES:Yoga
END:VEVENT
BEGIN:VEVENT
DTSTART;TZID=America/New_York:20270121T093000
DTEND;TZID=America/New_York:20270121T110000
DTSTAMP:20260420T031230
CREATED:20251123T174119Z
LAST-MODIFIED:20260115T132102Z
UID:10005072-1800523800-1800529200@www.ultimatephysiquefitness.com
SUMMARY:*Hatha Yoga
DESCRIPTION:Karen \nMembers $8.00 \nNon Members $12.00
URL:http://www.ultimatephysiquefitness.com/class/hatha-yoga-2/2027-01-21/
CATEGORIES:Yoga
END:VEVENT
BEGIN:VEVENT
DTSTART;TZID=America/New_York:20270123T090000
DTEND;TZID=America/New_York:20270123T103000
DTSTAMP:20260420T031230
CREATED:20251123T174444Z
LAST-MODIFIED:20260414T165355Z
UID:10005656-1800694800-1800700200@www.ultimatephysiquefitness.com
SUMMARY:*Slow Flow Yoga
DESCRIPTION:Karen \n$8.00 members \n$12.00 Non members
URL:http://www.ultimatephysiquefitness.com/class/slow-flow-yoga/2027-01-23/
CATEGORIES:Yoga
END:VEVENT
BEGIN:VEVENT
DTSTART;TZID=America/New_York:20270124T083000
DTEND;TZID=America/New_York:20270124T093000
DTSTAMP:20260420T031230
CREATED:20251123T174307Z
LAST-MODIFIED:20260317T170226Z
UID:10005136-1800779400-1800783000@www.ultimatephysiquefitness.com
SUMMARY:*45 min. Vinyasa 15 min. Yin Yoga
DESCRIPTION:Belinda \n$8.00 Members \n$12.00 Non Members \n 
URL:http://www.ultimatephysiquefitness.com/class/45-min-vinyasa-15-min-yin-yoga/2027-01-24/
CATEGORIES:Yoga
END:VEVENT
BEGIN:VEVENT
DTSTART;TZID=America/New_York:20270125T183000
DTEND;TZID=America/New_York:20270125T200000
DTSTAMP:20260420T031230
CREATED:20251123T172701Z
LAST-MODIFIED:20260212T120259Z
UID:10004500-1800901800-1800907200@www.ultimatephysiquefitness.com
SUMMARY:*Hatha Yoga
DESCRIPTION:Karen \nMembers $8.00 \nNon-Members $12.00
URL:http://www.ultimatephysiquefitness.com/class/hatha-yoga/2027-01-25/
CATEGORIES:Yoga
END:VEVENT
BEGIN:VEVENT
DTSTART;TZID=America/New_York:20270126T173000
DTEND;TZID=America/New_York:20270126T183000
DTSTAMP:20260420T031230
CREATED:20251123T173116Z
LAST-MODIFIED:20260327T124012Z
UID:10004629-1800984600-1800988200@www.ultimatephysiquefitness.com
SUMMARY:*Power Vinyasa Yoga
DESCRIPTION:Belinda \nMembers $8.00 \nNon Members $12.00
URL:http://www.ultimatephysiquefitness.com/class/power-vinyasa-yoga/2027-01-26/
CATEGORIES:Yoga
END:VEVENT
BEGIN:VEVENT
DTSTART;TZID=America/New_York:20270127T180000
DTEND;TZID=America/New_York:20270127T190000
DTSTAMP:20260420T031230
CREATED:20251123T174004Z
LAST-MODIFIED:20260317T170538Z
UID:10005010-1801072800-1801076400@www.ultimatephysiquefitness.com
SUMMARY:*Gentle/Beginner Yoga
DESCRIPTION:Gail \nMembers $8.00 \nNon Members $12.00
URL:http://www.ultimatephysiquefitness.com/class/gentle-beginner-yoga/2027-01-27/
CATEGORIES:Yoga
END:VEVENT
BEGIN:VEVENT
DTSTART;TZID=America/New_York:20270128T093000
DTEND;TZID=America/New_York:20270128T110000
DTSTAMP:20260420T031230
CREATED:20251123T174119Z
LAST-MODIFIED:20260115T132102Z
UID:10005073-1801128600-1801134000@www.ultimatephysiquefitness.com
SUMMARY:*Hatha Yoga
DESCRIPTION:Karen \nMembers $8.00 \nNon Members $12.00
URL:http://www.ultimatephysiquefitness.com/class/hatha-yoga-2/2027-01-28/
CATEGORIES:Yoga
END:VEVENT
BEGIN:VEVENT
DTSTART;TZID=America/New_York:20270130T090000
DTEND;TZID=America/New_York:20270130T103000
DTSTAMP:20260420T031230
CREATED:20251123T174444Z
LAST-MODIFIED:20260414T165355Z
UID:10005657-1801299600-1801305000@www.ultimatephysiquefitness.com
SUMMARY:*Slow Flow Yoga
DESCRIPTION:Karen \n$8.00 members \n$12.00 Non members
URL:http://www.ultimatephysiquefitness.com/class/slow-flow-yoga/2027-01-30/
CATEGORIES:Yoga
END:VEVENT
BEGIN:VEVENT
DTSTART;TZID=America/New_York:20270131T083000
DTEND;TZID=America/New_York:20270131T093000
DTSTAMP:20260420T031230
CREATED:20251123T174307Z
LAST-MODIFIED:20260317T170226Z
UID:10005137-1801384200-1801387800@www.ultimatephysiquefitness.com
SUMMARY:*45 min. Vinyasa 15 min. Yin Yoga
DESCRIPTION:Belinda \n$8.00 Members \n$12.00 Non Members \n 
URL:http://www.ultimatephysiquefitness.com/class/45-min-vinyasa-15-min-yin-yoga/2027-01-31/
CATEGORIES:Yoga
END:VEVENT
END:VCALENDAR