BEGIN:VCALENDAR
VERSION:2.0
PRODID:-//Ultimate Physique Fitness - ECPv6.15.12.2//NONSGML v1.0//EN
CALSCALE:GREGORIAN
METHOD:PUBLISH
X-ORIGINAL-URL:http://www.ultimatephysiquefitness.com
X-WR-CALDESC:Events for Ultimate Physique Fitness
REFRESH-INTERVAL;VALUE=DURATION:PT1H
X-Robots-Tag:noindex
X-PUBLISHED-TTL:PT1H
BEGIN:VTIMEZONE
TZID:America/New_York
BEGIN:DAYLIGHT
TZOFFSETFROM:-0500
TZOFFSETTO:-0400
TZNAME:EDT
DTSTART:20250309T070000
END:DAYLIGHT
BEGIN:STANDARD
TZOFFSETFROM:-0400
TZOFFSETTO:-0500
TZNAME:EST
DTSTART:20251102T060000
END:STANDARD
BEGIN:DAYLIGHT
TZOFFSETFROM:-0500
TZOFFSETTO:-0400
TZNAME:EDT
DTSTART:20260308T070000
END:DAYLIGHT
BEGIN:STANDARD
TZOFFSETFROM:-0400
TZOFFSETTO:-0500
TZNAME:EST
DTSTART:20261101T060000
END:STANDARD
BEGIN:DAYLIGHT
TZOFFSETFROM:-0500
TZOFFSETTO:-0400
TZNAME:EDT
DTSTART:20270314T070000
END:DAYLIGHT
BEGIN:STANDARD
TZOFFSETFROM:-0400
TZOFFSETTO:-0500
TZNAME:EST
DTSTART:20271107T060000
END:STANDARD
END:VTIMEZONE
BEGIN:VEVENT
DTSTART;TZID=America/New_York:20260420T083000
DTEND;TZID=America/New_York:20260420T110000
DTSTAMP:20260419T122829
CREATED:20251123T171631Z
LAST-MODIFIED:20251123T171631Z
UID:10004132-1776673800-1776682800@www.ultimatephysiquefitness.com
SUMMARY:Pickleball
DESCRIPTION:Members $3.00 \nNon Members $5.00
URL:http://www.ultimatephysiquefitness.com/class/pickleball/2026-04-20/
END:VEVENT
BEGIN:VEVENT
DTSTART;TZID=America/New_York:20260420T094500
DTEND;TZID=America/New_York:20260420T104500
DTSTAMP:20260419T122829
CREATED:20251123T171824Z
LAST-MODIFIED:20251123T171824Z
UID:10004198-1776678300-1776681900@www.ultimatephysiquefitness.com
SUMMARY:Circuit with Stations
DESCRIPTION:Karen
URL:http://www.ultimatephysiquefitness.com/class/circuit-with-stations/2026-04-20/
END:VEVENT
BEGIN:VEVENT
DTSTART;TZID=America/New_York:20260420T170000
DTEND;TZID=America/New_York:20260420T173000
DTSTAMP:20260419T122829
CREATED:20251123T171919Z
LAST-MODIFIED:20260215T170631Z
UID:10004263-1776704400-1776706200@www.ultimatephysiquefitness.com
SUMMARY:Cycling
DESCRIPTION:Karen or Jen
URL:http://www.ultimatephysiquefitness.com/class/cycling/2026-04-20/
END:VEVENT
BEGIN:VEVENT
DTSTART;TZID=America/New_York:20260420T173000
DTEND;TZID=America/New_York:20260420T180000
DTSTAMP:20260419T122829
CREATED:20251123T172031Z
LAST-MODIFIED:20260215T180229Z
UID:10004328-1776706200-1776708000@www.ultimatephysiquefitness.com
SUMMARY:Circuit
DESCRIPTION:Karen or Jen
URL:http://www.ultimatephysiquefitness.com/class/circuit/2026-04-20/
END:VEVENT
BEGIN:VEVENT
DTSTART;TZID=America/New_York:20260420T180000
DTEND;TZID=America/New_York:20260420T184500
DTSTAMP:20260419T122829
CREATED:20251123T172554Z
LAST-MODIFIED:20251123T172554Z
UID:10004394-1776708000-1776710700@www.ultimatephysiquefitness.com
SUMMARY:Cycling
DESCRIPTION:Ian
URL:http://www.ultimatephysiquefitness.com/class/cycling-2/2026-04-20/
END:VEVENT
BEGIN:VEVENT
DTSTART;TZID=America/New_York:20260420T183000
DTEND;TZID=America/New_York:20260420T200000
DTSTAMP:20260419T122829
CREATED:20251123T172701Z
LAST-MODIFIED:20260212T120259Z
UID:10004460-1776709800-1776715200@www.ultimatephysiquefitness.com
SUMMARY:*Hatha Yoga
DESCRIPTION:Karen \nMembers $8.00 \nNon-Members $12.00
URL:http://www.ultimatephysiquefitness.com/class/hatha-yoga/2026-04-20/
CATEGORIES:Yoga
END:VEVENT
END:VCALENDAR